Workbook

Sheet Ranges
A1: Ix | B1: Season | C1: Average | D1: Median | F1: Percent | G1: Octile
A2: 1 | B2: =2001 -> 2001 | C2: =AVERAGEIF('t5-1500-100kr'!$E$2:$E$237,"="&B2,'t5-1500-100kr'!$C$2:$C$237) -> 2.1687695 | D2: {=MEDIAN(IF('t5-1500-100kr'!$E$3:$E$237=B2,'t5-1500-100kr'!$C$2:$C$237,"N/A"))} -> 2.1509713 | F2: =PERCENTILE('t5-1500-100kr'!$C$2:$C$237,G2/8) -> 3.7663732 | G2: 1
A3: 10 | B3: =B2+1 -> 2002 | C3: =AVERAGEIF('t5-1500-100kr'!$E$2:$E$237,"="&B3,'t5-1500-100kr'!$C$2:$C$237) -> 5.201685 | D3: {=MEDIAN(IF('t5-1500-100kr'!$E$3:$E$237=B3,'t5-1500-100kr'!$C$2:$C$237,"N/A"))} -> 5.0019132 | F3: =PERCENTILE('t5-1500-100kr'!$C$2:$C$237,G3/8) -> 5.6048072 | G3: 2
A4: 24 | B4: =B3+1 -> 2003 | C4: =AVERAGEIF('t5-1500-100kr'!$E$2:$E$237,"="&B4,'t5-1500-100kr'!$C$2:$C$237) -> 8.0320908 | D4: {=MEDIAN(IF('t5-1500-100kr'!$E$3:$E$237=B4,'t5-1500-100kr'!$C$2:$C$237,"N/A"))} -> 8.1473032 | F4: =PERCENTILE('t5-1500-100kr'!$C$2:$C$237,G4/8) -> 8.2218401 | G4: 3
A5: 37 | B5: =B4+1 -> 2004 | C5: =AVERAGEIF('t5-1500-100kr'!$E$2:$E$237,"="&B5,'t5-1500-100kr'!$C$2:$C$237) -> 10.987111 | D5: {=MEDIAN(IF('t5-1500-100kr'!$E$3:$E$237=B5,'t5-1500-100kr'!$C$2:$C$237,"N/A"))} -> 10.870747 | F5: =PERCENTILE('t5-1500-100kr'!$C$2:$C$237,G5/8) -> 10.054957 | G5: 4
A6: 50 | B6: =B5+1 -> 2005 | C6: =AVERAGEIF('t5-1500-100kr'!$E$2:$E$237,"="&B6,'t5-1500-100kr'!$C$2:$C$237) -> 16.425208 | D6: {=MEDIAN(IF('t5-1500-100kr'!$E$3:$E$237=B6,'t5-1500-100kr'!$C$2:$C$237,"N/A"))} -> 16.1159 | F6: =PERCENTILE('t5-1500-100kr'!$C$2:$C$237,G6/8) -> 12.130312 | G6: 5
A7: 62 | B7: =B6+1 -> 2006 | C7: =AVERAGEIF('t5-1500-100kr'!$E$2:$E$237,"="&B7,'t5-1500-100kr'!$C$2:$C$237) -> 20.33716 | D7: {=MEDIAN(IF('t5-1500-100kr'!$E$3:$E$237=B7,'t5-1500-100kr'!$C$2:$C$237,"N/A"))} -> 19.717796 | F7: =PERCENTILE('t5-1500-100kr'!$C$2:$C$237,G7/8) -> 16.014808 | G7: 6
A8: 74 | B8: =B7+1 -> 2007 | C8: =AVERAGEIF('t5-1500-100kr'!$E$2:$E$237,"="&B8,'t5-1500-100kr'!$C$2:$C$237) -> 4.4334562 | D8: {=MEDIAN(IF('t5-1500-100kr'!$E$3:$E$237=B8,'t5-1500-100kr'!$C$2:$C$237,"N/A"))} -> 3.39121 | F8: =PERCENTILE('t5-1500-100kr'!$C$2:$C$237,G8/8) -> 20.633073 | G8: 7
A9: 83 | B9: =B8+1 -> 2008 | C9: =AVERAGEIF('t5-1500-100kr'!$E$2:$E$237,"="&B9,'t5-1500-100kr'!$C$2:$C$237) -> 14.221356 | D9: {=MEDIAN(IF('t5-1500-100kr'!$E$3:$E$237=B9,'t5-1500-100kr'!$C$2:$C$237,"N/A"))} -> 13.149244 | F9: =PERCENTILE('t5-1500-100kr'!$C$2:$C$237,G9/8) -> 69.300069 | G9: 8
A10: 94 | B10: =B9+1 -> 2009 | C10: =AVERAGEIF('t5-1500-100kr'!$E$2:$E$237,"="&B10,'t5-1500-100kr'!$C$2:$C$237) -> 19.477548 | D10: {=MEDIAN(IF('t5-1500-100kr'!$E$3:$E$237=B10,'t5-1500-100kr'!$C$2:$C$237,"N/A"))} -> 13.594652
A11: 106 | B11: =B10+1 -> 2010 | C11: =AVERAGEIF('t5-1500-100kr'!$E$2:$E$237,"="&B11,'t5-1500-100kr'!$C$2:$C$237) -> 20.267997 | D11: {=MEDIAN(IF('t5-1500-100kr'!$E$3:$E$237=B11,'t5-1500-100kr'!$C$2:$C$237,"N/A"))} -> 18.137809
A12: 118 | B12: =B11+1 -> 2011 | C12: =AVERAGEIF('t5-1500-100kr'!$E$2:$E$237,"="&B12,'t5-1500-100kr'!$C$2:$C$237) -> 10.179757 | D12: {=MEDIAN(IF('t5-1500-100kr'!$E$3:$E$237=B12,'t5-1500-100kr'!$C$2:$C$237,"N/A"))} -> 9.5438061
A13: 129 | B13: =B12+1 -> 2012 | C13: =AVERAGEIF('t5-1500-100kr'!$E$2:$E$237,"="&B13,'t5-1500-100kr'!$C$2:$C$237) -> 17.983351 | D13: {=MEDIAN(IF('t5-1500-100kr'!$E$3:$E$237=B13,'t5-1500-100kr'!$C$2:$C$237,"N/A"))} -> 16.871743
A14: 141 | B14: =B13+1 -> 2013 | C14: =AVERAGEIF('t5-1500-100kr'!$E$2:$E$237,"="&B14,'t5-1500-100kr'!$C$2:$C$237) -> 18.042099 | D14: {=MEDIAN(IF('t5-1500-100kr'!$E$3:$E$237=B14,'t5-1500-100kr'!$C$2:$C$237,"N/A"))} -> 17.11745
A15: 153 | B15: =B14+1 -> 2014 | C15: =AVERAGEIF('t5-1500-100kr'!$E$2:$E$237,"="&B15,'t5-1500-100kr'!$C$2:$C$237) -> 16.75809 | D15: {=MEDIAN(IF('t5-1500-100kr'!$E$3:$E$237=B15,'t5-1500-100kr'!$C$2:$C$237,"N/A"))} -> 17.647456
A16: 165 | B16: =B15+1 -> 2015 | C16: =AVERAGEIF('t5-1500-100kr'!$E$2:$E$237,"="&B16,'t5-1500-100kr'!$C$2:$C$237) -> 8.1169621 | D16: {=MEDIAN(IF('t5-1500-100kr'!$E$3:$E$237=B16,'t5-1500-100kr'!$C$2:$C$237,"N/A"))} -> 7.339648
A17: 177 | B17: =B16+1 -> 2016 | C17: =AVERAGEIF('t5-1500-100kr'!$E$2:$E$237,"="&B17,'t5-1500-100kr'!$C$2:$C$237) -> 8.9120742 | D17: {=MEDIAN(IF('t5-1500-100kr'!$E$3:$E$237=B17,'t5-1500-100kr'!$C$2:$C$237,"N/A"))} -> 8.8837208
A18: 189 | B18: =B17+1 -> 2017 | C18: =AVERAGEIF('t5-1500-100kr'!$E$2:$E$237,"="&B18,'t5-1500-100kr'!$C$2:$C$237) -> 4.7305744 | D18: {=MEDIAN(IF('t5-1500-100kr'!$E$3:$E$237=B18,'t5-1500-100kr'!$C$2:$C$237,"N/A"))} -> 4.6730244
A19: 201 | B19: =B18+1 -> 2018 | C19: =AVERAGEIF('t5-1500-100kr'!$E$2:$E$237,"="&B19,'t5-1500-100kr'!$C$2:$C$237) -> 4.5481946 | D19: {=MEDIAN(IF('t5-1500-100kr'!$E$3:$E$237=B19,'t5-1500-100kr'!$C$2:$C$237,"N/A"))} -> 3.6435132
A20: 213 | B20: =B19+1 -> 2019 | C20: =AVERAGEIF('t5-1500-100kr'!$E$2:$E$237,"="&B20,'t5-1500-100kr'!$C$2:$C$237) -> 9.7092152 | D20: {=MEDIAN(IF('t5-1500-100kr'!$E$3:$E$237=B20,'t5-1500-100kr'!$C$2:$C$237,"N/A"))} -> 7.9730873
A21: 225 | B21: =B20+1 -> 2020 | C21: =AVERAGEIF('t5-1500-100kr'!$E$2:$E$237,"="&B21,'t5-1500-100kr'!$C$2:$C$237) -> 11.480661 | D21: {=MEDIAN(IF('t5-1500-100kr'!$E$3:$E$237=B21,'t5-1500-100kr'!$C$2:$C$237,"N/A"))} -> 10.915677

Sheet t5-1500-100kr
B1: Ix | C1: Strength | D1: Events | E1: Season | F1: Octile
A2: C1 | B2: 1 | C2: 2.0152352 | D2: =100000/C2 -> 49622 | E2: =VLOOKUP(B2,Ranges!$A$1:$B$21,2,1) -> 2001 | F2: =8*_xlfn.PERCENTRANK.EXC($C$2:$C$237,$C2) -> 0.3376
A3: C2 | B3: 2 | C3: 2.5767219 | D3: =100000/C3 -> 38809 | E3: =VLOOKUP(B3,Ranges!$A$1:$B$21,2,1) -> 2001 | F3: =8*_xlfn.PERCENTRANK.EXC($C$2:$C$237,$C3) -> 0.6416
A4: C3 | B4: 3 | C4: 1.4465081 | D4: =100000/C4 -> 69132 | E4: =VLOOKUP(B4,Ranges!$A$1:$B$21,2,1) -> 2001 | F4: =8*_xlfn.PERCENTRANK.EXC($C$2:$C$237,$C4) -> 0.06752
A5: C4 | B5: 4 | C5: 1.7507616 | D5: =100000/C5 -> 57118 | E5: =VLOOKUP(B5,Ranges!$A$1:$B$21,2,1) -> 2001 | F5: =8*_xlfn.PERCENTRANK.EXC($C$2:$C$237,$C5) -> 0.1688
A6: C5 | B6: 5 | C6: 1.7600986 | D6: =100000/C6 -> 56815 | E6: =VLOOKUP(B6,Ranges!$A$1:$B$21,2,1) -> 2001 | F6: =8*_xlfn.PERCENTRANK.EXC($C$2:$C$237,$C6) -> 0.2024
A7: C6 | B7: 6 | C7: 2.7548209 | D7: =100000/C7 -> 36300 | E7: =VLOOKUP(B7,Ranges!$A$1:$B$21,2,1) -> 2001 | F7: =8*_xlfn.PERCENTRANK.EXC($C$2:$C$237,$C7) -> 0.7088
A8: C7 | B8: 7 | C8: 2.2867074 | D8: =100000/C8 -> 43731 | E8: =VLOOKUP(B8,Ranges!$A$1:$B$21,2,1) -> 2001 | F8: =8*_xlfn.PERCENTRANK.EXC($C$2:$C$237,$C8) -> 0.4728
A9: C8 | B9: 8 | C9: 2.4064493 | D9: =100000/C9 -> 41555 | E9: =VLOOKUP(B9,Ranges!$A$1:$B$21,2,1) -> 2001 | F9: =8*_xlfn.PERCENTRANK.EXC($C$2:$C$237,$C9) -> 0.5064
A10: C9 | B10: 9 | C10: 2.5216229 | D10: =100000/C10 -> 39657 | E10: =VLOOKUP(B10,Ranges!$A$1:$B$21,2,1) -> 2001 | F10: =8*_xlfn.PERCENTRANK.EXC($C$2:$C$237,$C10) -> 0.6072
A11: C10 | B11: 10 | C11: 4.6212856 | D11: =100000/C11 -> 21639 | E11: =VLOOKUP(B11,Ranges!$A$1:$B$21,2,1) -> 2002 | F11: =8*_xlfn.PERCENTRANK.EXC($C$2:$C$237,$C11) -> 1.448
A12: C11 | B12: 11 | C12: 4.4290903 | D12: =100000/C12 -> 22578 | E12: =VLOOKUP(B12,Ranges!$A$1:$B$21,2,1) -> 2002 | F12: =8*_xlfn.PERCENTRANK.EXC($C$2:$C$237,$C12) -> 1.384
A13: C12 | B13: 12 | C13: 5.4062821 | D13: =100000/C13 -> 18497 | E13: =VLOOKUP(B13,Ranges!$A$1:$B$21,2,1) -> 2002 | F13: =8*_xlfn.PERCENTRANK.EXC($C$2:$C$237,$C13) -> 1.888
... A237: C233 | B237: 236 | C237: 10.015023 | D237: =100000/C237 -> 9985 | E237: =VLOOKUP(B237,Ranges!$A$1:$B$21,2,1) -> 2020 | F237: =8*_xlfn.PERCENTRANK.EXC($C$2:$C$237,$C237) -> 3.984
