Workbook

Sheet Ranges
A1: Ix | B1: Season | C1: Average | D1: Median | F1: Percent | G1: Octile
A2: 1 | B2: 2017 | C2: =AVERAGEIF('t3-1500'!$D$2:$D$237,"="&B2,'t3-1500'!$C$2:$C$237) -> 1.6375458 | D2: {=MEDIAN(IF('t3-1500'!$D$3:$D$237=B2,'t3-1500'!$C$2:$C$237,"N/A"))} -> 1.502503 | F2: =PERCENTILE('t3-1500'!$C$2:$C$237,G2/8) -> 1.7575593 | G2: 1
A3: 4 | B3: =B2+1 -> 2018 | C3: =AVERAGEIF('t3-1500'!$D$2:$D$237,"="&B3,'t3-1500'!$C$2:$C$237) -> 2.5013959 | D3: {=MEDIAN(IF('t3-1500'!$D$3:$D$237=B3,'t3-1500'!$C$2:$C$237,"N/A"))} -> 2.2592372 | F3: =PERCENTILE('t3-1500'!$C$2:$C$237,G3/8) -> 2.005006 | G3: 2
A4: 7 | B4: =B3+1 -> 2019 | C4: =AVERAGEIF('t3-1500'!$D$2:$D$237,"="&B4,'t3-1500'!$C$2:$C$237) -> 2.4574009 | D4: {=MEDIAN(IF('t3-1500'!$D$3:$D$237=B4,'t3-1500'!$C$2:$C$237,"N/A"))} -> 2.5985747 | F4: =PERCENTILE('t3-1500'!$C$2:$C$237,G4/8) -> 2.1699009 | G4: 3
A5: 16 | B5: =B4+1 -> 2020 | C5: =AVERAGEIF('t3-1500'!$D$2:$D$237,"="&B5,'t3-1500'!$C$2:$C$237) -> 3.5229299 | D5: {=MEDIAN(IF('t3-1500'!$D$3:$D$237=B5,'t3-1500'!$C$2:$C$237,"N/A"))} -> 2.7011192 | F5: =PERCENTILE('t3-1500'!$C$2:$C$237,G5/8) -> 2.5985747 | G5: 4
F6: =PERCENTILE('t3-1500'!$C$2:$C$237,G6/8) -> 2.7011192 | G6: 5
F7: =PERCENTILE('t3-1500'!$C$2:$C$237,G7/8) -> 3.1689271 | G7: 6
F8: =PERCENTILE('t3-1500'!$C$2:$C$237,G8/8) -> 3.4819174 | G8: 7
F9: =PERCENTILE('t3-1500'!$C$2:$C$237,G9/8) -> 5.7555534 | G9: 8

Sheet t3-1500
B1: Ix | C1: Strength | D1: Season | E1: Octile
A2: 2017-1 | B2: 1 | C2: 1 | D2: =VLOOKUP(B2,Ranges!$A$1:$B$21,2,1) -> 2017 | E2: =8*_xlfn.PERCENTRANK.EXC($C$2:$C$237,$C2) -> 0.364
A3: 2017-2 | B3: 2 | C3: 2.005006 | D3: =VLOOKUP(B3,Ranges!$A$1:$B$21,2,1) -> 2017 | E3: =8*_xlfn.PERCENTRANK.EXC($C$2:$C$237,$C3) -> 2.184
A4: 2017-3 | B4: 3 | C4: 1.9076313 | D4: =VLOOKUP(B4,Ranges!$A$1:$B$21,2,1) -> 2017 | E4: =8*_xlfn.PERCENTRANK.EXC($C$2:$C$237,$C4) -> 1.816
A5: 2018-1 | B5: 4 | C5: 2.6463758 | D5: =VLOOKUP(B5,Ranges!$A$1:$B$21,2,1) -> 2018 | E5: =8*_xlfn.PERCENTRANK.EXC($C$2:$C$237,$C5) -> 4.36
A6: 2018-2 | B6: 5 | C6: 2.2592372 | D6: =VLOOKUP(B6,Ranges!$A$1:$B$21,2,1) -> 2018 | E6: =8*_xlfn.PERCENTRANK.EXC($C$2:$C$237,$C6) -> 3.64
A7: 2018-3 | B7: 6 | C7: 2.5985747 | D7: =VLOOKUP(B7,Ranges!$A$1:$B$21,2,1) -> 2018 | E7: =8*_xlfn.PERCENTRANK.EXC($C$2:$C$237,$C7) -> 4
A8: 2019-1 | B8: 7 | C8: 2.9858015 | D8: =VLOOKUP(B8,Ranges!$A$1:$B$21,2,1) -> 2019 | E8: =8*_xlfn.PERCENTRANK.EXC($C$2:$C$237,$C8) -> 5.456
A9: 2019-2 | B9: 8 | C9: 1.8593909 | D9: =VLOOKUP(B9,Ranges!$A$1:$B$21,2,1) -> 2019 | E9: =8*_xlfn.PERCENTRANK.EXC($C$2:$C$237,$C9) -> 1.456
A10: 2019-3 | B10: 9 | C10: 3.1689271 | D10: =VLOOKUP(B10,Ranges!$A$1:$B$21,2,1) -> 2019 | E10: =8*_xlfn.PERCENTRANK.EXC($C$2:$C$237,$C10) -> 5.816
A11: 2019-4 | B11: 10 | C11: 1.6557278 | D11: =VLOOKUP(B11,Ranges!$A$1:$B$21,2,1) -> 2019 | E11: =8*_xlfn.PERCENTRANK.EXC($C$2:$C$237,$C11) -> 1.088
A12: 2019-5 | B12: 11 | C12: 3.1844332 | D12: =VLOOKUP(B12,Ranges!$A$1:$B$21,2,1) -> 2019 | E12: =8*_xlfn.PERCENTRANK.EXC($C$2:$C$237,$C12) -> 6.184
A13: 2019-6 | B13: 12 | C13: 3.7206501 | D13: =VLOOKUP(B13,Ranges!$A$1:$B$21,2,1) -> 2019 | E13: =8*_xlfn.PERCENTRANK.EXC($C$2:$C$237,$C13) -> 6.912
... A22: 2020-6 | B22: 21 | C22: 5.7555534 | D22: =VLOOKUP(B22,Ranges!$A$1:$B$21,2,1) -> 2020 | E22: =8*_xlfn.PERCENTRANK.EXC($C$2:$C$237,$C22) -> 7.64
