Workbook

Sheet Data
A1: CHANGE ONLY GREEN VALUE
C2: Real | D2: Game | E2: Hex | F2: Offset
A3: Weight | B3: kg | C3: 1415
B4: lb | C4: =C3/0.45 -> 3144.4444 | D4: =C4/110 -> 28.585859 | E4: =RIGHT(DEC2HEX(D4),2) -> 1C | F4: 28
A5: Lateral G | C5: 0.8 | D5: =247*C5-10 -> 187.6 | E5: =IF(C5<=255,RIGHT(DEC2HEX(D5),2),RIGHT(DEC2HEX(D5),2)&"/"&LEFT(DEC2HEX(D5),2)) -> BB | F5: CA/CBh
A6: RPM Pmax | B6: tr/min | C6: 10750
A7: Pmax | B7: ch | C7: 710
A8: CX | C8: =C7/(C27*C31*((MAX(C18,C20))/38)^3) -> 0.2958221
A9: RPM max | B9: tr/min | C9: 12000
A10: Speed 1 | B10: km/h | C10: 53
B11: mph | C11: =C10/1.6 -> 33.125 | D11: =256*$C$9/C11 -> 92739.623 | E11: =RIGHT(DEC2HEX(D11),2) & "/" & LEFT(DEC2HEX(D11),2) -> 43/16 | F11: 36/37h
A12: Speed 2 | B12: km/h | C12: 83
B13: mph | C13: =C12/1.6 -> 51.875 | D13: =256*$C$9/C13 -> 59219.277 | E13: =RIGHT(DEC2HEX(D13),2) & "/" & LEFT(DEC2HEX(D13),2) -> 53/E7 | F13: 38/39h
A14: Speed 3 | B14: km/h | C14: 130
B15: mph | C15: =C14/1.6 -> 81.25 | D15: =256*$C$9/C15 -> 37809.231 | E15: =RIGHT(DEC2HEX(D15),2) & "/" & LEFT(DEC2HEX(D15),2) -> B1/93 | F15: 3A/3Bh
A16: Speed 4 | B16: km/h | C16: 176
B17: mph | C17: =C16/1.6 -> 110 | D17: =256*$C$9/C17 -> 27927.273 | E17: =RIGHT(DEC2HEX(D17),2) & "/" & LEFT(DEC2HEX(D17),2) -> 17/6D | F17: 3C/3Dh
A18: Speed 5 | B18: km/h | C18: 223
B19: mph | C19: =C18/1.6 -> 139.375 | D19: =256*$C$6/C19 -> 19745.291 | E19: =RIGHT(DEC2HEX(D19),2) & "/" & LEFT(DEC2HEX(D19),2) -> 21/4D | F19: 3E/3Fh
A20: Speed 6 | B20: km/h | C20: 370
B21: mph | C21: =C20/1.6 -> 231.25 | D21: =256*$C$6/C21 -> 11900.541 | E21: =RIGHT(DEC2HEX(D21),2) & "/" & LEFT(DEC2HEX(D21),2) -> 7C/2E | F21: 40/41h
A22: CX | C22: =C8 -> 0.2958221 | D22: =C22*82 -> 24.257412 | E22: =RIGHT(DEC2HEX(D22),2) -> 18 | F22: 5E
A23: length | B23: m | C23: 4.485
B24: ft | C24: =C23*3.2809 -> 14.714837 | D24: =C24/0.18 -> 81.749092
A25: length car0 | D25: =MAX(CAR0!E2:E256)-MIN(CAR0!E2:E256) -> 572
A26: length car1 | D26: =MAX('CAR1'!C2:C256)-MIN('CAR1'!C2:C256) -> 92
A27: Width | B27: m | C27: 2
B28: ft | C28: =C27*3.2809 -> 6.5618 | D28: =C28/0.18 -> 36.454444
A29: Width car0 | D29: =MAX(CAR0!C2:C256)-MIN(CAR0!C2:C256) -> 240
A30: Width car1 | D30: =MAX('CAR1'!A2:A256)-MIN('CAR1'!A2:A256) -> 38
A31: Height | B31: m | C31: 1.3
B32: ft | C32: =C31*3.2809 -> 4.26517 | D32: =C32/0.18 -> 23.695389
A33: Height car0 | D33: =MAX(CAR0!D2:D256) -> 118
A34: Height car1 | D34: =MAX('CAR1'!B2:B256) -> 19
A35: Coeff CAR0 | C35: 3.35 | D35: =AVERAGE(D24/D26,D28/D30,D32/D34) -> 1.0316768
A36: Coeff CAR0->CAR1 | C36: 0.048 | D36: =C36*C35 -> 0.1608

Sheet Torque Curve
A1: RPM | B1: 750 | C1: =B1+250 -> 1000 | D1: =C1+250 -> 1250 | E1: =D1+250 -> 1500 | F1: =E1+250 -> 1750 | G1: =F1+250 -> 2000 | H1: =G1+250 -> 2250 | I1: =H1+250 -> 2500 | J1: =I1+250 -> 2750 | ... Z1: =Y1+250 -> 6750 | AA1: 7000 | AB1: 7250 | AC1: 7500 | AD1: 7750 | AE1: 8000 | AF1: 8250 | AG1: =AF1+250 -> 8500 | AH1: =AG1+250 -> 8750 | AI1: =AH1+250 -> 9000 | AJ1: =AI1+250 -> 9250 | AK1: =AJ1+250 -> 9500 | AL1: =AK1+250 -> 9750 | AM1: =AL1+250 -> 10000 | AN1: =AM1+250 -> 10250 | ... AY1: =AX1+250 -> 13000
A2: TORQUE (N.m) | B2: 102 | C2: 153 | D2: 184 | E2: 204 | F2: 219 | G2: 230 | H2: 332 | I2: 401 | J2: 434 | K2: 431 | L2: 428 | M2: 429 | N2: 431 | O2: 433 | P2: 435 | Q2: 435 | R2: 433 | S2: 428 | T2: 421 | U2: 410 | V2: 397 | W2: 392 | X2: 356 | Y2: 0 | Z2: 0 | AA2: 0 | AB2: 0 | AC2: 0 | AD2: 0 | AE2: 0 | AF2: 0 | AG2: 0 | AH2: 0 | AI2: 0 | AJ2: 0 | AK2: 0 | AL2: 0 | AM2: 0 | AN2: 0 | AO2: 0 | AP2: 0 | AQ2: 0 | AR2: 0 | AS2: 0 | AT2: 0 | AU2: 0 | AV2: 0 | AW2: 0 | AX2: 0 | AY2: 0
A3: POWER (HP) | B3: =B2*2*PI()*B1/(736*60) -> 10.884594 | C3: =C2*2*PI()*C1/(736*60) -> 21.769188 | D3: =D2*2*PI()*D1/(736*60) -> 32.724923 | E3: =E2*2*PI()*E1/(736*60) -> 43.538376 | F3: =F2*2*PI()*F1/(736*60) -> 54.529682 | G3: =G2*2*PI()*G1/(736*60) -> 65.449847 | H3: =H2*2*PI()*H1/(736*60) -> 106.28486 | I3: =I2*2*PI()*I1/(736*60) -> 142.63798 | ... AY3: =AY2*2*PI()*AY1/(736*60) -> 0
A5: Coeff game->real | B5: 7
A6: Max | B6: =MAX(B12:CZ12) -> 62 | C6: =DEC2HEX(B6) -> 3E
A7: #points | B7: =COUNTIF(B12:CZ12,"<>0") -> 50
A9: #points | B9: 1 | C9: 2 | D9: 3 | E9: 4 | F9: 5 | G9: 6 | H9: 7 | I9: 8 | J9: 9 | K9: 10 | L9: 11 | M9: 12 | N9: 13 | O9: 14 | P9: 15 | Q9: 16 | R9: 17 | S9: 18 | T9: 19 | U9: 20 | V9: 21 | W9: 22 | X9: 23 | Y9: 24 | Z9: 25 | AA9: 26 | AB9: 27 | AC9: 28 | AD9: 29 | AE9: 30 | AF9: 31 | AG9: 32 | AH9: 33 | AI9: 34 | AJ9: 35 | AK9: 36 | AL9: 37 | AM9: 38 | AN9: 39 | AO9: 40 | AP9: 41 | AQ9: 42 | AR9: 43 | AS9: 44 | AT9: 45 | AU9: 46 | AV9: 47 | AW9: 48 | AX9: 49 | AY9: 50 | AZ9: 51 | BA9: 52 | BB9: 53 | BC9: 54 | BD9: 55 | BE9: 56 | BF9: 57 | BG9: 58 | BH9: 59 | BI9: 60 | BJ9: 61 | BK9: 62 | BL9: 63 | BM9: 64 | BN9: 65 | BO9: 66 | BP9: 67 | BQ9: 68 | BR9: 69 | BS9: 70 | BT9: 71 | BU9: 72 | BV9: 73 | BW9: 74 | BX9: 75 | BY9: 76 | BZ9: 77 | CA9: 78 | CB9: 79 | CC9: 80 | CD9: 81 | CE9: 82 | CF9: 83 | CG9: 84 | CH9: 85 | CI9: 86 | CJ9: 87 | CK9: 88 | CL9: 89 | CM9: 90 | CN9: 91 | CO9: 92 | CP9: 93 | CQ9: 94 | CR9: 95 | CS9: 96 | CT9: 97 | CU9: 98 | CV9: 99 | CW9: 100 | CX9: 101 | CY9: 102 | CZ9: 103
A10: RPM | B10: 0 | C10: =B10+128 -> 128 | D10: =C10+128 -> 256 | E10: =D10+128 -> 384 | F10: =E10+128 -> 512 | G10: =F10+128 -> 640 | H10: =G10+128 -> 768 | I10: =H10+128 -> 896 | J10: =I10+128 -> 1024 | ... CZ10: =CY10+128 -> 13056
A11: Adresse | B11: 61 | C11: 62 | D11: 63 | E11: 64 | F11: 65 | G11: 66 | H11: 67 | I11: 68 | J11: 69 | K11: 6A | L11: 6B | M11: 6C | N11: 6D | O11: 6E | P11: 6F | Q11: 70 | R11: 71 | S11: 72 | T11: 73 | U11: 74 | V11: 75 | W11: 76 | X11: 77 | Y11: 78 | Z11: 79 | AA11: 7A | AB11: 7B | AC11: 7C | AD11: 7D | AE11: 7E | AF11: 7F | AG11: 80 | AH11: 81 | AI11: 82 | AJ11: 83 | AK11: 84 | AL11: 85 | AM11: 86 | AN11: 87 | AO11: 88 | AP11: 89 | AQ11: 8A | AR11: 8B | AS11: 8C | AT11: 8D | AU11: 8E | AV11: 8F | AW11: 90 | AX11: 91 | AY11: 92 | AZ11: 93 | BA11: 94 | BB11: 95 | BC11: 96 | BD11: 97 | BE11: 98 | BF11: 99 | BG11: 9A | BH11: 9B | BI11: 9C | BJ11: 9D | BK11: 9E | BL11: 9F | BM11: A0 | BN11: A1 | BO11: A2 | BP11: A3 | BQ11: A4 | BR11: A5 | BS11: A6 | BT11: A7 | BU11: A8 | BV11: A9 | BW11: AA | BX11: AB | BY11: AC | BZ11: AD | CA11: AE | CB11: AF | CC11: B0 | CD11: B1 | CE11: B2 | CF11: B3 | CG11: B4 | CH11: B5 | CI11: B6 | CJ11: B7 | CK11: B8 | CL11: B9 | CM11: BA | CN11: BB | CO11: BC | CP11: BD | CQ11: BE | CR11: BF | CS11: C0 | CT11: C1 | CU11: C2 | CV11: C3 | CW11: C4 | CX11: C5 | CY11: C6 | CZ11: C7
A12: Game value | B12: =ROUND(B2/$B$5,) -> 15 | C12: =B12 -> 15 | D12: =C12 -> 15 | E12: =D12 -> 15 | F12: =E12 -> 15 | G12: =F12 -> 15 | H12: =G12 -> 15 | I12: =H12 -> 15 | J12: =ROUND(C2/$B$5,) -> 22 | K12: =ROUND(AVERAGE(J12,L12),) -> 24 | L12: =ROUND(D2/$B$5,) -> 26 | M12: =ROUND(AVERAGE(L12,N12),) -> 28 | N12: =ROUND(E2/$B$5,) -> 29 | O12: =ROUND(AVERAGE(N12,P12),) -> 30 | P12: =ROUND(F2/$B$5,) -> 31 | Q12: =ROUND(AVERAGE(P12,R12),) -> 32 | R12: =ROUND(G2/$B$5,) -> 33 | S12: =ROUND(AVERAGE(R12,T12),) -> 40 | T12: =ROUND(H2/$B$5,) -> 47 | U12: =ROUND(AVERAGE(T12,V12),) -> 52 | V12: =ROUND(I2/$B$5,) -> 57 | W12: =ROUND(AVERAGE(V12,X12),) -> 60 | X12: =ROUND(J2/$B$5,) -> 62 | Y12: =ROUND(AVERAGE(X12,Z12),) -> 62 | Z12: =ROUND(K2/$B$5,) -> 62 | AA12: =ROUND(L2/$B$5,) -> 61 | AB12: =ROUND(AVERAGE(AA12,AD12),) -> 61 | AC12: =ROUND(AVERAGE(AB12,AD12),) -> 61 | AD12: =ROUND(M2/$B$5,) -> 61 | AE12: =ROUND(N2/$B$5,) -> 62 | AF12: =IF(AG12=0,0,ROUND(AVERAGE(AE12,AG12),)) -> 62 | AG12: =ROUND(O2/$B$5,) -> 62 | AH12: =IF(AI12=0,0,ROUND(AVERAGE(AG12,AI12),)) -> 62 | AI12: =ROUND(P2/$B$5,) -> 62 | AJ12: =IF(AK12=0,0,ROUND(AVERAGE(AI12,AK12),)) -> 62 | AK12: =ROUND(Q2/$B$5,) -> 62 | AL12: =IF(AM12=0,0,ROUND(AVERAGE(AK12,AM12),)) -> 62 | AM12: =ROUND(R2/$B$5,) -> 62 | AN12: =IF(AO12=0,0,ROUND(AVERAGE(AM12,AO12),)) -> 62 | AO12: =ROUND(S2/$B$5,) -> 61 | AP12: =IF(AQ12=0,0,ROUND(AVERAGE(AO12,AQ12),)) -> 61 | AQ12: =ROUND(T2/$B$5,) -> 60 | AR12: =IF(AS12=0,0,ROUND(AVERAGE(AQ12,AS12),)) -> 60 | AS12: =ROUND(U2/$B$5,) -> 59 | AT12: =IF(AU12=0,0,ROUND(AVERAGE(AS12,AU12),)) -> 58 | AU12: =ROUND(V2/$B$5,) -> 57 | AV12: =IF(AW12=0,0,ROUND(AVERAGE(AU12,AW12),)) -> 57 | AW12: =ROUND(W2/$B$5,) -> 56 | AX12: =IF(AY12=0,0,ROUND(AVERAGE(AW12,AY12),)) -> 54 | AY12: =ROUND(X2/$B$5,) -> 51 | AZ12: =IF(BA12=0,0,ROUND(AVERAGE(AY12,BA12),)) -> 0 | BA12: =ROUND(Y2/$B$5,) -> 0 | BB12: =IF(BC12=0,0,ROUND(AVERAGE(BA12,BC12),)) -> 0 | BC12: =ROUND(Z2/$B$5,) -> 0 | BD12: =IF(BE12=0,0,ROUND(AVERAGE(BC12,BE12),)) -> 0 | BE12: =ROUND(AA2/$B$5,) -> 0 | BF12: =IF(BG12=0,0,ROUND(AVERAGE(BE12,BG12),)) -> 0 | BG12: =ROUND(AB2/$B$5,) -> 0 | BH12: =IF(BI12=0,0,ROUND(AVERAGE(BG12,BI12),)) -> 0 | BI12: =ROUND(AC2/$B$5,) -> 0 | BJ12: =IF(BK12=0,0,ROUND(AVERAGE(BI12,BK12),)) -> 0 | BK12: =ROUND(AD2/$B$5,) -> 0 | BL12: =IF(BM12=0,0,ROUND(AVERAGE(BK12,BM12),)) -> 0 | BM12: =ROUND(AE2/$B$5,) -> 0 | BN12: =ROUND(AF2/$B$5,) -> 0 | BO12: =IF(BP12=0,0,ROUND(AVERAGE(BN12,BP12),)) -> 0 | BP12: =ROUND(AG2/$B$5,) -> 0 | BQ12: =IF(BR12=0,0,ROUND(AVERAGE(BP12,BR12),)) -> 0 | BR12: =ROUND(AH2/$B$5,) -> 0 | BS12: =IF(BT12=0,0,ROUND(AVERAGE(BR12,BT12),)) -> 0 | BT12: =ROUND(AI2/$B$5,) -> 0 | BU12: =IF(BV12=0,0,ROUND(AVERAGE(BT12,BV12),)) -> 0 | BV12: =ROUND(AJ2/$B$5,) -> 0 | BW12: =IF(BX12=0,0,ROUND(AVERAGE(BV12,BX12),)) -> 0 | BX12: =ROUND(AK2/$B$5,) -> 0 | BY12: =IF(BZ12=0,0,ROUND(AVERAGE(BX12,BZ12),)) -> 0 | BZ12: =ROUND(AL2/$B$5,) -> 0 | CA12: =IF(CB12=0,0,ROUND(AVERAGE(BZ12,CB12),)) -> 0 | CB12: =ROUND(AM2/$B$5,) -> 0 | CC12: =IF(CD12=0,0,ROUND(AVERAGE(CB12,CD12),)) -> 0 | CD12: =ROUND(AN2/$B$5,) -> 0 | CE12: =IF(CF12=0,0,ROUND(AVERAGE(CD12,CF12),)) -> 0 | CF12: =ROUND(AO2/$B$5,) -> 0 | CG12: =IF(CH12=0,0,ROUND(AVERAGE(CF12,CH12),)) -> 0 | CH12: =ROUND(AP2/$B$5,) -> 0 | CI12: =IF(CJ12=0,0,ROUND(AVERAGE(CH12,CJ12),)) -> 0 | CJ12: =ROUND(AQ2/$B$5,) -> 0 | CK12: =IF(CL12=0,0,ROUND(AVERAGE(CJ12,CL12),)) -> 0 | CL12: =ROUND(AR2/$B$5,) -> 0 | CM12: =IF(CN12=0,0,ROUND(AVERAGE(CL12,CN12),)) -> 0 | CN12: =ROUND(AS2/$B$5,) -> 0 | CO12: =IF(CP12=0,0,ROUND(AVERAGE(CN12,CP12),)) -> 0 | CP12: =ROUND(AT2/$B$5,) -> 0 | CQ12: =IF(CR12=0,0,ROUND(AVERAGE(CP12,CR12),)) -> 0 | CR12: =ROUND(AU2/$B$5,) -> 0 | CS12: =IF(CT12=0,0,ROUND(AVERAGE(CR12,CT12),)) -> 0 | CT12: =ROUND(AV2/$B$5,) -> 0 | CU12: =IF(CV12=0,0,ROUND(AVERAGE(CT12,CV12),)) -> 0 | CV12: =ROUND(AW2/$B$5,) -> 0 | CW12: =IF(CX12=0,0,ROUND(AVERAGE(CV12,CX12),)) -> 0 | CX12: =ROUND(AX2/$B$5,) -> 0 | CY12: =IF(CZ12=0,0,ROUND(AVERAGE(CX12,CZ12),)) -> 0 | CZ12: =ROUND(AY2/$B$5,) -> 0
A13: Hex | B13: =IF(B12=0,0,IF(B12<23,17,DEC2HEX(B12))) -> 17 | C13: =IF(C12=0,0,IF(C12<23,17,DEC2HEX(C12))) -> 17 | D13: =IF(D12=0,0,IF(D12<23,17,DEC2HEX(D12))) -> 17 | E13: =IF(E12=0,0,IF(E12<23,17,DEC2HEX(E12))) -> 17 | F13: =IF(F12=0,0,IF(F12<23,17,DEC2HEX(F12))) -> 17 | G13: =IF(G12=0,0,IF(G12<23,17,DEC2HEX(G12))) -> 17 | H13: =IF(H12=0,0,IF(H12<23,17,DEC2HEX(H12))) -> 17 | I13: =IF(I12=0,0,IF(I12<23,17,DEC2HEX(I12))) -> 17 | ... CZ13: =IF(CZ12=0,0,IF(CZ12<23,17,DEC2HEX(CZ12))) -> 0
A14: Ascii | B14: =IF(B12=0,"",CHAR(B12)) -> _x000F_ | C14: =IF(C12=0,"",CHAR(C12)) -> _x000F_ | D14: =IF(D12=0,"",CHAR(D12)) -> _x000F_ | E14: =IF(E12=0,"",CHAR(E12)) -> _x000F_ | F14: =IF(F12=0,"",CHAR(F12)) -> _x000F_ | G14: =IF(G12=0,"",CHAR(G12)) -> _x000F_ | H14: =IF(H12=0,"",CHAR(H12)) -> _x000F_ | I14: =IF(I12=0,"",CHAR(I12)) -> _x000F_ | ... CZ14: =IF(CZ12=0,"",CHAR(CZ12))
A15: Text | B15: =B14&C14&D14&E14&F14&G14&H14&I14&J14&K14&L14&M14&N14&O14&P14&Q14&R14&S14&T14&U14&V14&W14&X14&Y14&Z14&AA14&AB14&AC14&AD14&AE14&AF14&AG14&AH14&AI14&AJ14&AK14&AL14&AM14&AN14&AO14&AP14&AQ14&AR14&AS14&AT14&AU14&AV14&AW14&AX14&AY14&AZ14&BA14&BB14&BC14&BD14&BE14&BF14&BG14&BH14&BI14&BJ14&BK14&BL14&BM14&BN14&BO14&BP14&BQ14&BR14&BS14&BT14&BU14&BV14&BW14&BX14&BY14&BZ14&CA14&CB14&CC14&CD14&CE14&CF14&CG14&CH14&CI14&CJ14&CK14&CL14&CM14&CN14&CO14&CP14&CQ14&CR14&CS14&CT14&CU14&CV14&CW14&CX14&CY14&CZ14 -> _x000F__x000F__x000F__x000F__x000F__x000F__x000F__x000F__x0016__x0018__x001A__x001C__x001D__x001E__x001F_ !(/49<>>>====>>>>>>>>>>==<<;:99863

Sheet change power
A1: coeff old-> new | B1: 1.4106601
A2: adresse | B2: 61 | C2: 62 | D2: 63 | E2: 64 | F2: 65 | G2: 66 | H2: 67 | I2: 68 | J2: 69 | K2: 6A | L2: 6B | M2: 6C | N2: 6D | O2: 6E | P2: 6F | Q2: 70 | R2: 71 | S2: 72 | T2: 73 | U2: 74 | V2: 75 | W2: 76 | X2: 77 | Y2: 78 | Z2: 79 | AA2: 7A | AB2: 7B | AC2: 7C | AD2: 7D | AE2: 7E | AF2: 7F | AG2: 80 | AH2: 81 | AI2: 82 | AJ2: 83 | AK2: 84 | AL2: 85 | AM2: 86 | AN2: 87 | AO2: 88 | AP2: 89 | AQ2: 8A | AR2: 8B | AS2: 8C | AT2: 8D | AU2: 8E | AV2: 8F | AW2: 90 | AX2: 91 | AY2: 92 | AZ2: 93 | BA2: 94 | BB2: 95 | BC2: 96 | BD2: 97 | BE2: 98 | BF2: 99 | BG2: 9A | BH2: 9B | BI2: 9C | BJ2: 9D | BK2: 9E | BL2: 9F | BM2: A0 | BN2: A1 | BO2: A2 | BP2: A3 | BQ2: A4 | BR2: A5 | BS2: A6 | BT2: A7 | BU2: A8 | BV2: A9 | BW2: AA | BX2: AB | BY2: AC | BZ2: AD | CA2: AE | CB2: AF | CC2: B0 | CD2: B1 | CE2: B2 | CF2: B3 | CG2: B4 | CH2: B5 | CI2: B6 | CJ2: B7 | CK2: B8 | CL2: B9 | CM2: BA | CN2: BB | CO2: BC | CP2: BD | CQ2: BE | CR2: BF | CS2: C0 | CT2: C1 | CU2: C2 | CV2: C3 | CW2: C4 | CX2: C5 | CY2: C6 | CZ2: C7
A3: rpm | B3: 0 | C3: =B3+128 -> 128 | D3: =C3+128 -> 256 | E3: =D3+128 -> 384 | F3: =E3+128 -> 512 | G3: =F3+128 -> 640 | H3: =G3+128 -> 768 | I3: =H3+128 -> 896 | J3: =I3+128 -> 1024 | ... CZ3: =CY3+128 -> 13056
A4: hex | B4: 14 | C4: 14 | D4: 14 | E4: 14 | F4: 14 | G4: 14 | H4: 14 | I4: 14 | J4: 15 | K4: 16 | L4: 17 | M4: 18 | N4: 19 | O4: 19 | P4: 1B | Q4: 1B | R4: 1A | S4: 1A | T4: 1A | U4: 1A | V4: 1A | W4: 1A | X4: 1B | Y4: 1B | Z4: 1B | AA4: 1B | AB4: 1C | AC4: 1C | AD4: 1C | AE4: 1D | AF4: 1D | AG4: 1E | AH4: 1E | AI4: 1E | AJ4: 1F | AK4: 1F | AL4: 20 | AM4: 20 | AN4: 21 | AO4: 21 | AP4: 22 | AQ4: 22 | AR4: 22 | AS4: 22 | AT4: 23 | AU4: 23 | AV4: 23 | AW4: 23 | AX4: 23 | AY4: 25 | AZ4: 25 | BA4: 25 | BB4: 26 | BC4: 26 | BD4: 26 | BE4: 26 | BF4: 26 | BG4: 26 | BH4: 26 | BI4: 26 | BJ4: 26 | BK4: 26 | BL4: 26 | BM4: 26 | BN4: 26 | BO4: 26 | BP4: 26 | BQ4: 26 | BR4: 26 | BS4: 26 | BT4: 26 | BU4: 26 | BV4: 28 | BW4: 29 | BX4: 2A | BY4: 2B | BZ4: 2C | CA4: 2D | CB4: 2E | CC4: 2F | CD4: 2F | CE4: 2F | CF4: 2F | CG4: 2F | CH4: 2F | CI4: 2D | CJ4: 2D | CK4: 2C | CL4: 2C | CM4: 2C | CN4: 2A | CO4: 2A | CP4: 2A | CQ4: 29 | CR4: 29 | CS4: 0 | CT4: 0 | CU4: 0 | CV4: 0 | CW4: 0 | CX4: 0 | CY4: 0 | CZ4: 0
A5: Game value | B5: =HEX2DEC(B4) -> 20 | C5: =HEX2DEC(C4) -> 20 | D5: =HEX2DEC(D4) -> 20 | E5: =HEX2DEC(E4) -> 20 | F5: =HEX2DEC(F4) -> 20 | G5: =HEX2DEC(G4) -> 20 | H5: =HEX2DEC(H4) -> 20 | I5: =HEX2DEC(I4) -> 20 | ... CZ5: =HEX2DEC(CZ4) -> 0
A6: torque Game | B6: =B5*'Torque Curve'!$B$5 -> 140 | C6: =C5*'Torque Curve'!$B$5 -> 140 | D6: =D5*'Torque Curve'!$B$5 -> 140 | E6: =E5*'Torque Curve'!$B$5 -> 140 | F6: =F5*'Torque Curve'!$B$5 -> 140 | G6: =G5*'Torque Curve'!$B$5 -> 140 | H6: =H5*'Torque Curve'!$B$5 -> 140 | I6: =I5*'Torque Curve'!$B$5 -> 140 | ... CZ6: =CZ5*'Torque Curve'!$B$5 -> 0
A7: Power Game (HP) | B7: =B6*2*PI()*B3/(736*60) -> 0 | C7: =C6*2*PI()*C3/(736*60) -> 2.5496984 | D7: =D6*2*PI()*D3/(736*60) -> 5.0993968 | E7: =E6*2*PI()*E3/(736*60) -> 7.6490952 | F7: =F6*2*PI()*F3/(736*60) -> 10.198794 | G7: =G6*2*PI()*G3/(736*60) -> 12.748492 | H7: =H6*2*PI()*H3/(736*60) -> 15.29819 | I7: =I6*2*PI()*I3/(736*60) -> 17.847889 | ... CZ7: =CZ6*2*PI()*CZ3/(736*60) -> 0
A8: New torque | B8: =B6*$B$1 -> 197.49242 | C8: =C6*$B$1 -> 197.49242 | D8: =D6*$B$1 -> 197.49242 | E8: =E6*$B$1 -> 197.49242 | F8: =F6*$B$1 -> 197.49242 | G8: =G6*$B$1 -> 197.49242 | H8: =H6*$B$1 -> 197.49242 | I8: =I6*$B$1 -> 197.49242 | ... CZ8: =CZ6*$B$1 -> 0
A9: New Power (HP) | B9: =B8*2*PI()*B3/(736*60) -> 0 | C9: =C8*2*PI()*C3/(736*60) -> 3.5967579 | D9: =D8*2*PI()*D3/(736*60) -> 7.1935157 | E9: =E8*2*PI()*E3/(736*60) -> 10.790274 | F9: =F8*2*PI()*F3/(736*60) -> 14.387031 | G9: =G8*2*PI()*G3/(736*60) -> 17.983789 | H9: =H8*2*PI()*H3/(736*60) -> 21.580547 | I9: =I8*2*PI()*I3/(736*60) -> 25.177305 | ... CZ9: =CZ8*2*PI()*CZ3/(736*60) -> 0
A10: max new torque | B10: =MAX(B8:CZS8) -> 464.10718
A11: max new hp | B11: =MAX(B9:CZ9) -> 710
A12: New value Game | B12: =B8/'Torque Curve'!$B$5 -> 28.213203 | C12: =C8/'Torque Curve'!$B$5 -> 28.213203 | D12: =D8/'Torque Curve'!$B$5 -> 28.213203 | E12: =E8/'Torque Curve'!$B$5 -> 28.213203 | F12: =F8/'Torque Curve'!$B$5 -> 28.213203 | G12: =G8/'Torque Curve'!$B$5 -> 28.213203 | H12: =H8/'Torque Curve'!$B$5 -> 28.213203 | I12: =I8/'Torque Curve'!$B$5 -> 28.213203 | ... CZ12: =CZ8/'Torque Curve'!$B$5 -> 0
A13: New hex value | B13: =DEC2HEX(B12) -> 1C | C13: =DEC2HEX(C12) -> 1C | D13: =DEC2HEX(D12) -> 1C | E13: =DEC2HEX(E12) -> 1C | F13: =DEC2HEX(F12) -> 1C | G13: =DEC2HEX(G12) -> 1C | H13: =DEC2HEX(H12) -> 1C | I13: =DEC2HEX(I12) -> 1C | ... CZ13: =DEC2HEX(CZ12) -> 0
A14: ascii | B14: =IF(B12=0,"",CHAR(B12)) -> _x001C_ | C14: =IF(C12=0,"",CHAR(C12)) -> _x001C_ | D14: =IF(D12=0,"",CHAR(D12)) -> _x001C_ | E14: =IF(E12=0,"",CHAR(E12)) -> _x001C_ | F14: =IF(F12=0,"",CHAR(F12)) -> _x001C_ | G14: =IF(G12=0,"",CHAR(G12)) -> _x001C_ | H14: =IF(H12=0,"",CHAR(H12)) -> _x001C_ | I14: =IF(I12=0,"",CHAR(I12)) -> _x001C_ | ... CZ14: =IF(CZ12=0,"",CHAR(CZ12))
A15: Text | B15: =B14&C14&D14&E14&F14&G14&H14&I14&J14&K14&L14&M14&N14&O14&P14&Q14&R14&S14&T14&U14&V14&W14&X14&Y14&Z14&AA14&AB14&AC14&AD14&AE14&AF14&AG14&AH14&AI14&AJ14&AK14&AL14&AM14&AN14&AO14&AP14&AQ14&AR14&AS14&AT14&AU14&AV14&AW14&AX14&AY14&AZ14&BA14&BB14&BC14&BD14&BE14&BF14&BG14&BH14&BI14&BJ14&BK14&BL14&BM14&BN14&BO14&BP14&BQ14&BR14&BS14&BT14&BU14&BV14&BW14&BX14&BY14&BZ14&CA14&CB14&CC14&CD14&CE14&CF14&CG14&CH14&CI14&CJ14&CK14&CL14&CM14&CN14&CO14&CP14&CQ14&CR14&CS14&CT14&CU14&CV14&CW14&CX14&CY14&CZ14 -> _x001C__x001C__x001C__x001C__x001C__x001C__x001C__x001C__x001D__x001F_ !##&&$$$$$$&&&&'''((***++--..////111114445555555555555555555589;<>?@BBBBBB??>>>;;;99

Sheet Wheel
A1: Xav | B1: 442 | C1: Yav | D1: 147 | E1: Zav | F1: 539 | G1: Largeur AV | H1: 120
A2: Xar | B2: 442 | C2: Yar | D2: 147 | E2: Zar | F2: -747 | G2: Largeur AR | H2: 160
A3: Diameter | B3: 260
A6: Wheel1 | B6: X | C6: Y | D6: Z | E6: Wheel2 | F6: X | G6: Y | H6: Z
B7: =B10+H1 -> -322 | C7: =D1 -> 147 | D7: =F1 -> 539 | F7: =-B7 -> 322 | G7: =C7 -> 147 | H7: =D7 -> 539
B8: =B7 -> -322 | C8: =C7+B3/2 -> 277 | D8: =D7 -> 539 | F8: =-B8 -> 322 | G8: =G7+B3/2 -> 277 | H8: =H7 -> 539
B9: =B8 -> -322 | C9: =C7 -> 147 | D9: =D7+B3/2 -> 669 | F9: =-B9 -> 322 | G9: =G7 -> 147 | H9: =H7-B3/2 -> 409
B10: =-B1 -> -442 | C10: =C9 -> 147 | D10: =D8 -> 539 | F10: =-B10 -> 442 | G10: =G9 -> 147 | H10: =H8 -> 539
B11: =B10 -> -442 | C11: =C8 -> 277 | D11: =D10 -> 539 | F11: =-B11 -> 442 | G11: =G8 -> 277 | H11: =H10 -> 539
B12: =B11 -> -442 | C12: =C10 -> 147 | D12: =D10-B3/2 -> 409 | F12: =-B12 -> 442 | G12: =G10 -> 147 | H12: =H9 -> 409
A14: Wheel4 | B14: X | C14: Y | D14: Z | E14: Wheel3 | F14: X | G14: Y | H14: Z
B15: =-F15 -> -282 | C15: =G15 -> 147 | D15: =H15 -> -747 | F15: =B2-H2 -> 282 | G15: =D2 -> 147 | H15: =F2 -> -747
B16: =-F16 -> -282 | C16: =G16 -> 277 | D16: =H16 -> -747 | F16: =F15 -> 282 | G16: =G15+B3/2 -> 277 | H16: =H15 -> -747
B17: =-F17 -> -282 | C17: =G17 -> 147 | D17: =D20 -> -617 | F17: =F16 -> 282 | G17: =G15 -> 147 | H17: =H15-B3/2 -> -877
B18: =-F18 -> -442 | C18: =G18 -> 147 | D18: =H18 -> -747 | F18: =B2 -> 442 | G18: =G17 -> 147 | H18: =H16 -> -747
B19: =-F19 -> -442 | C19: =G19 -> 277 | D19: =H19 -> -747 | F19: =F18 -> 442 | G19: =G16 -> 277 | H19: =H18 -> -747
B20: =-F20 -> -442 | C20: =G20 -> 147 | D20: =H20 -> -617 | F20: =F19 -> 442 | G20: =G18 -> 147 | H20: =H15+B3/2 -> -617

Sheet CAR0
A1: copy/paste from obj | B1: chaine épurée | C1: X | D1: Y | E1: Z | F1: New OBJ | G1: longueur chaine | H1: 1 spc | I1: 1 pt | J1: 2 spc | K1: 2 pt | L1: 3 spc | M1: 3 pt
A2: v -81.0 44.0 161.0 | B2: =TRIM(A2) -> v -81.0 44.0 161.0 | C2: =IF(A2="","",VALUE(RIGHT(LEFT(B2,I2-1),LEN(LEFT(B2,I2-1))-H2))) -> -81 | D2: =IF(A2="","",VALUE(RIGHT(LEFT(B2,K2-1),LEN(LEFT(B2,K2-1))-J2))) -> 44 | E2: =IF(A2="","",VALUE(RIGHT(LEFT(B2,M2-1),LEN(LEFT(B2,M2-1))-L2))) -> 161 | F2: =IF(A2="","","v " &ROUND(C2*Data!$C$35,0) & ".0 " & ROUND(D2*Data!$C$35,0) & ".0 " & ROUND(E2*Data!$C$35,0) & ".0") -> v -271.0 147.0 539.0 | G2: =LEN(B2) -> 18 | H2: =SEARCH(" ",B2) -> 2 | I2: =SEARCH(".",B2) -> 6 | J2: =SEARCH(" ",B2,H2+1) -> 8 | K2: =SEARCH(".",B2,I2+1) -> 11 | L2: =SEARCH(" ",B2,J2+1) -> 13 | M2: =SEARCH(".",B2,K2+1) -> 17
A3: v -81.0 0.0 161.0 | B3: =TRIM(A3) -> v -81.0 0.0 161.0 | C3: =IF(A3="","",VALUE(RIGHT(LEFT(B3,I3-1),LEN(LEFT(B3,I3-1))-H3))) -> -81 | D3: =IF(A3="","",VALUE(RIGHT(LEFT(B3,K3-1),LEN(LEFT(B3,K3-1))-J3))) -> 0 | E3: =IF(A3="","",VALUE(RIGHT(LEFT(B3,M3-1),LEN(LEFT(B3,M3-1))-L3))) -> 161 | F3: =IF(A3="","","v " &ROUND(C3*Data!$C$35,0) & ".0 " & ROUND(D3*Data!$C$35,0) & ".0 " & ROUND(E3*Data!$C$35,0) & ".0") -> v -271.0 0.0 539.0 | G3: =LEN(B3) -> 17 | H3: =SEARCH(" ",B3) -> 2 | I3: =SEARCH(".",B3) -> 6 | J3: =SEARCH(" ",B3,H3+1) -> 8 | K3: =SEARCH(".",B3,I3+1) -> 10 | L3: =SEARCH(" ",B3,J3+1) -> 12 | M3: =SEARCH(".",B3,K3+1) -> 16
A4: v -81.0 44.0 136.0 | B4: =TRIM(A4) -> v -81.0 44.0 136.0 | C4: =IF(A4="","",VALUE(RIGHT(LEFT(B4,I4-1),LEN(LEFT(B4,I4-1))-H4))) -> -81 | D4: =IF(A4="","",VALUE(RIGHT(LEFT(B4,K4-1),LEN(LEFT(B4,K4-1))-J4))) -> 44 | E4: =IF(A4="","",VALUE(RIGHT(LEFT(B4,M4-1),LEN(LEFT(B4,M4-1))-L4))) -> 136 | F4: =IF(A4="","","v " &ROUND(C4*Data!$C$35,0) & ".0 " & ROUND(D4*Data!$C$35,0) & ".0 " & ROUND(E4*Data!$C$35,0) & ".0") -> v -271.0 147.0 456.0 | G4: =LEN(B4) -> 18 | H4: =SEARCH(" ",B4) -> 2 | I4: =SEARCH(".",B4) -> 6 | J4: =SEARCH(" ",B4,H4+1) -> 8 | K4: =SEARCH(".",B4,I4+1) -> 11 | L4: =SEARCH(" ",B4,J4+1) -> 13 | M4: =SEARCH(".",B4,K4+1) -> 17
A5: v -117.0 44.0 161.0 | B5: =TRIM(A5) -> v -117.0 44.0 161.0 | C5: =IF(A5="","",VALUE(RIGHT(LEFT(B5,I5-1),LEN(LEFT(B5,I5-1))-H5))) -> -117 | D5: =IF(A5="","",VALUE(RIGHT(LEFT(B5,K5-1),LEN(LEFT(B5,K5-1))-J5))) -> 44 | E5: =IF(A5="","",VALUE(RIGHT(LEFT(B5,M5-1),LEN(LEFT(B5,M5-1))-L5))) -> 161 | F5: =IF(A5="","","v " &ROUND(C5*Data!$C$35,0) & ".0 " & ROUND(D5*Data!$C$35,0) & ".0 " & ROUND(E5*Data!$C$35,0) & ".0") -> v -392.0 147.0 539.0 | G5: =LEN(B5) -> 19 | H5: =SEARCH(" ",B5) -> 2 | I5: =SEARCH(".",B5) -> 7 | J5: =SEARCH(" ",B5,H5+1) -> 9 | K5: =SEARCH(".",B5,I5+1) -> 12 | L5: =SEARCH(" ",B5,J5+1) -> 14 | M5: =SEARCH(".",B5,K5+1) -> 18
A6: v -117.0 0.0 161.0 | B6: =TRIM(A6) -> v -117.0 0.0 161.0 | C6: =IF(A6="","",VALUE(RIGHT(LEFT(B6,I6-1),LEN(LEFT(B6,I6-1))-H6))) -> -117 | D6: =IF(A6="","",VALUE(RIGHT(LEFT(B6,K6-1),LEN(LEFT(B6,K6-1))-J6))) -> 0 | E6: =IF(A6="","",VALUE(RIGHT(LEFT(B6,M6-1),LEN(LEFT(B6,M6-1))-L6))) -> 161 | F6: =IF(A6="","","v " &ROUND(C6*Data!$C$35,0) & ".0 " & ROUND(D6*Data!$C$35,0) & ".0 " & ROUND(E6*Data!$C$35,0) & ".0") -> v -392.0 0.0 539.0 | G6: =LEN(B6) -> 18 | H6: =SEARCH(" ",B6) -> 2 | I6: =SEARCH(".",B6) -> 7 | J6: =SEARCH(" ",B6,H6+1) -> 9 | K6: =SEARCH(".",B6,I6+1) -> 11 | L6: =SEARCH(" ",B6,J6+1) -> 13 | M6: =SEARCH(".",B6,K6+1) -> 17
A7: v -117.0 44.0 136.0 | B7: =TRIM(A7) -> v -117.0 44.0 136.0 | C7: =IF(A7="","",VALUE(RIGHT(LEFT(B7,I7-1),LEN(LEFT(B7,I7-1))-H7))) -> -117 | D7: =IF(A7="","",VALUE(RIGHT(LEFT(B7,K7-1),LEN(LEFT(B7,K7-1))-J7))) -> 44 | E7: =IF(A7="","",VALUE(RIGHT(LEFT(B7,M7-1),LEN(LEFT(B7,M7-1))-L7))) -> 136 | F7: =IF(A7="","","v " &ROUND(C7*Data!$C$35,0) & ".0 " & ROUND(D7*Data!$C$35,0) & ".0 " & ROUND(E7*Data!$C$35,0) & ".0") -> v -392.0 147.0 456.0 | G7: =LEN(B7) -> 19 | H7: =SEARCH(" ",B7) -> 2 | I7: =SEARCH(".",B7) -> 7 | J7: =SEARCH(" ",B7,H7+1) -> 9 | K7: =SEARCH(".",B7,I7+1) -> 12 | L7: =SEARCH(" ",B7,J7+1) -> 14 | M7: =SEARCH(".",B7,K7+1) -> 18
A8: v 81.0 44.0 161.0 | B8: =TRIM(A8) -> v 81.0 44.0 161.0 | C8: =IF(A8="","",VALUE(RIGHT(LEFT(B8,I8-1),LEN(LEFT(B8,I8-1))-H8))) -> 81 | D8: =IF(A8="","",VALUE(RIGHT(LEFT(B8,K8-1),LEN(LEFT(B8,K8-1))-J8))) -> 44 | E8: =IF(A8="","",VALUE(RIGHT(LEFT(B8,M8-1),LEN(LEFT(B8,M8-1))-L8))) -> 161 | F8: =IF(A8="","","v " &ROUND(C8*Data!$C$35,0) & ".0 " & ROUND(D8*Data!$C$35,0) & ".0 " & ROUND(E8*Data!$C$35,0) & ".0") -> v 271.0 147.0 539.0 | G8: =LEN(B8) -> 17 | H8: =SEARCH(" ",B8) -> 2 | I8: =SEARCH(".",B8) -> 5 | J8: =SEARCH(" ",B8,H8+1) -> 7 | K8: =SEARCH(".",B8,I8+1) -> 10 | L8: =SEARCH(" ",B8,J8+1) -> 12 | M8: =SEARCH(".",B8,K8+1) -> 16
A9: v 81.0 0.0 161.0 | B9: =TRIM(A9) -> v 81.0 0.0 161.0 | C9: =IF(A9="","",VALUE(RIGHT(LEFT(B9,I9-1),LEN(LEFT(B9,I9-1))-H9))) -> 81 | D9: =IF(A9="","",VALUE(RIGHT(LEFT(B9,K9-1),LEN(LEFT(B9,K9-1))-J9))) -> 0 | E9: =IF(A9="","",VALUE(RIGHT(LEFT(B9,M9-1),LEN(LEFT(B9,M9-1))-L9))) -> 161 | F9: =IF(A9="","","v " &ROUND(C9*Data!$C$35,0) & ".0 " & ROUND(D9*Data!$C$35,0) & ".0 " & ROUND(E9*Data!$C$35,0) & ".0") -> v 271.0 0.0 539.0 | G9: =LEN(B9) -> 16 | H9: =SEARCH(" ",B9) -> 2 | I9: =SEARCH(".",B9) -> 5 | J9: =SEARCH(" ",B9,H9+1) -> 7 | K9: =SEARCH(".",B9,I9+1) -> 9 | L9: =SEARCH(" ",B9,J9+1) -> 11 | M9: =SEARCH(".",B9,K9+1) -> 15
A10: v 81.0 44.0 136.0 | B10: =TRIM(A10) -> v 81.0 44.0 136.0 | C10: =IF(A10="","",VALUE(RIGHT(LEFT(B10,I10-1),LEN(LEFT(B10,I10-1))-H10))) -> 81 | D10: =IF(A10="","",VALUE(RIGHT(LEFT(B10,K10-1),LEN(LEFT(B10,K10-1))-J10))) -> 44 | E10: =IF(A10="","",VALUE(RIGHT(LEFT(B10,M10-1),LEN(LEFT(B10,M10-1))-L10))) -> 136 | F10: =IF(A10="","","v " &ROUND(C10*Data!$C$35,0) & ".0 " & ROUND(D10*Data!$C$35,0) & ".0 " & ROUND(E10*Data!$C$35,0) & ".0") -> v 271.0 147.0 456.0 | G10: =LEN(B10) -> 17 | H10: =SEARCH(" ",B10) -> 2 | I10: =SEARCH(".",B10) -> 5 | J10: =SEARCH(" ",B10,H10+1) -> 7 | K10: =SEARCH(".",B10,I10+1) -> 10 | L10: =SEARCH(" ",B10,J10+1) -> 12 | M10: =SEARCH(".",B10,K10+1) -> 16
A11: v 117.0 44.0 161.0 | B11: =TRIM(A11) -> v 117.0 44.0 161.0 | C11: =IF(A11="","",VALUE(RIGHT(LEFT(B11,I11-1),LEN(LEFT(B11,I11-1))-H11))) -> 117 | D11: =IF(A11="","",VALUE(RIGHT(LEFT(B11,K11-1),LEN(LEFT(B11,K11-1))-J11))) -> 44 | E11: =IF(A11="","",VALUE(RIGHT(LEFT(B11,M11-1),LEN(LEFT(B11,M11-1))-L11))) -> 161 | F11: =IF(A11="","","v " &ROUND(C11*Data!$C$35,0) & ".0 " & ROUND(D11*Data!$C$35,0) & ".0 " & ROUND(E11*Data!$C$35,0) & ".0") -> v 392.0 147.0 539.0 | G11: =LEN(B11) -> 18 | H11: =SEARCH(" ",B11) -> 2 | I11: =SEARCH(".",B11) -> 6 | J11: =SEARCH(" ",B11,H11+1) -> 8 | K11: =SEARCH(".",B11,I11+1) -> 11 | L11: =SEARCH(" ",B11,J11+1) -> 13 | M11: =SEARCH(".",B11,K11+1) -> 17
A12: v 117.0 0.0 161.0 | B12: =TRIM(A12) -> v 117.0 0.0 161.0 | C12: =IF(A12="","",VALUE(RIGHT(LEFT(B12,I12-1),LEN(LEFT(B12,I12-1))-H12))) -> 117 | D12: =IF(A12="","",VALUE(RIGHT(LEFT(B12,K12-1),LEN(LEFT(B12,K12-1))-J12))) -> 0 | E12: =IF(A12="","",VALUE(RIGHT(LEFT(B12,M12-1),LEN(LEFT(B12,M12-1))-L12))) -> 161 | F12: =IF(A12="","","v " &ROUND(C12*Data!$C$35,0) & ".0 " & ROUND(D12*Data!$C$35,0) & ".0 " & ROUND(E12*Data!$C$35,0) & ".0") -> v 392.0 0.0 539.0 | G12: =LEN(B12) -> 17 | H12: =SEARCH(" ",B12) -> 2 | I12: =SEARCH(".",B12) -> 6 | J12: =SEARCH(" ",B12,H12+1) -> 8 | K12: =SEARCH(".",B12,I12+1) -> 10 | L12: =SEARCH(" ",B12,J12+1) -> 12 | M12: =SEARCH(".",B12,K12+1) -> 16
A13: v 117.0 44.0 136.0 | B13: =TRIM(A13) -> v 117.0 44.0 136.0 | C13: =IF(A13="","",VALUE(RIGHT(LEFT(B13,I13-1),LEN(LEFT(B13,I13-1))-H13))) -> 117 | D13: =IF(A13="","",VALUE(RIGHT(LEFT(B13,K13-1),LEN(LEFT(B13,K13-1))-J13))) -> 44 | E13: =IF(A13="","",VALUE(RIGHT(LEFT(B13,M13-1),LEN(LEFT(B13,M13-1))-L13))) -> 136 | F13: =IF(A13="","","v " &ROUND(C13*Data!$C$35,0) & ".0 " & ROUND(D13*Data!$C$35,0) & ".0 " & ROUND(E13*Data!$C$35,0) & ".0") -> v 392.0 147.0 456.0 | G13: =LEN(B13) -> 18 | H13: =SEARCH(" ",B13) -> 2 | I13: =SEARCH(".",B13) -> 6 | J13: =SEARCH(" ",B13,H13+1) -> 8 | K13: =SEARCH(".",B13,I13+1) -> 11 | L13: =SEARCH(" ",B13,J13+1) -> 13 | M13: =SEARCH(".",B13,K13+1) -> 17
... A175: v 3.0 63.0 176.0 | B175: =TRIM(A175) -> v 3.0 63.0 176.0 | C175: =IF(A175="","",VALUE(RIGHT(LEFT(B175,I175-1),LEN(LEFT(B175,I175-1))-H175))) -> 3 | D175: =IF(A175="","",VALUE(RIGHT(LEFT(B175,K175-1),LEN(LEFT(B175,K175-1))-J175))) -> 63 | E175: =IF(A175="","",VALUE(RIGHT(LEFT(B175,M175-1),LEN(LEFT(B175,M175-1))-L175))) -> 176 | F175: =IF(A175="","","v " &ROUND(C175*Data!$C$35,0) & ".0 " & ROUND(D175*Data!$C$35,0) & ".0 " & ROUND(E175*Data!$C$35,0) & ".0") -> v 10.0 211.0 590.0 | G175: =LEN(B175) -> 16 | H175: =SEARCH(" ",B175) -> 2 | I175: =SEARCH(".",B175) -> 4 | J175: =SEARCH(" ",B175,H175+1) -> 6 | K175: =SEARCH(".",B175,I175+1) -> 9 | L175: =SEARCH(" ",B175,J175+1) -> 11 | M175: =SEARCH(".",B175,K175+1) -> 15
B176: =TRIM(A176) | C176: =IF(A176="","",VALUE(RIGHT(LEFT(B176,I176-1),LEN(LEFT(B176,I176-1))-H176))) | D176: =IF(A176="","",VALUE(RIGHT(LEFT(B176,K176-1),LEN(LEFT(B176,K176-1))-J176))) | E176: =IF(A176="","",VALUE(RIGHT(LEFT(B176,M176-1),LEN(LEFT(B176,M176-1))-L176))) | F176: =IF(A176="","","v " &ROUND(C176*Data!$C$35,0) & ".0 " & ROUND(D176*Data!$C$35,0) & ".0 " & ROUND(E176*Data!$C$35,0) & ".0") | G176: =LEN(B176) -> 0 | H176: =SEARCH(" ",B176) -> #VALUE! | I176: =SEARCH(".",B176) -> #VALUE! | J176: =SEARCH(" ",B176,H176+1) -> #VALUE! | K176: =SEARCH(".",B176,I176+1) -> #VALUE! | L176: =SEARCH(" ",B176,J176+1) -> #VALUE! | M176: =SEARCH(".",B176,K176+1) -> #VALUE!
B177: =TRIM(A177) | C177: =IF(A177="","",VALUE(RIGHT(LEFT(B177,I177-1),LEN(LEFT(B177,I177-1))-H177))) | D177: =IF(A177="","",VALUE(RIGHT(LEFT(B177,K177-1),LEN(LEFT(B177,K177-1))-J177))) | E177: =IF(A177="","",VALUE(RIGHT(LEFT(B177,M177-1),LEN(LEFT(B177,M177-1))-L177))) | F177: =IF(A177="","","v " &ROUND(C177*Data!$C$35,0) & ".0 " & ROUND(D177*Data!$C$35,0) & ".0 " & ROUND(E177*Data!$C$35,0) & ".0") | G177: =LEN(B177) -> 0 | H177: =SEARCH(" ",B177) -> #VALUE! | I177: =SEARCH(".",B177) -> #VALUE! | J177: =SEARCH(" ",B177,H177+1) -> #VALUE! | K177: =SEARCH(".",B177,I177+1) -> #VALUE! | L177: =SEARCH(" ",B177,J177+1) -> #VALUE! | M177: =SEARCH(".",B177,K177+1) -> #VALUE!
B178: =TRIM(A178) | C178: =IF(A178="","",VALUE(RIGHT(LEFT(B178,I178-1),LEN(LEFT(B178,I178-1))-H178))) | D178: =IF(A178="","",VALUE(RIGHT(LEFT(B178,K178-1),LEN(LEFT(B178,K178-1))-J178))) | E178: =IF(A178="","",VALUE(RIGHT(LEFT(B178,M178-1),LEN(LEFT(B178,M178-1))-L178))) | F178: =IF(A178="","","v " &ROUND(C178*Data!$C$35,0) & ".0 " & ROUND(D178*Data!$C$35,0) & ".0 " & ROUND(E178*Data!$C$35,0) & ".0") | G178: =LEN(B178) -> 0 | H178: =SEARCH(" ",B178) -> #VALUE! | I178: =SEARCH(".",B178) -> #VALUE! | J178: =SEARCH(" ",B178,H178+1) -> #VALUE! | K178: =SEARCH(".",B178,I178+1) -> #VALUE! | L178: =SEARCH(" ",B178,J178+1) -> #VALUE! | M178: =SEARCH(".",B178,K178+1) -> #VALUE!
B179: =TRIM(A179) | C179: =IF(A179="","",VALUE(RIGHT(LEFT(B179,I179-1),LEN(LEFT(B179,I179-1))-H179))) | D179: =IF(A179="","",VALUE(RIGHT(LEFT(B179,K179-1),LEN(LEFT(B179,K179-1))-J179))) | E179: =IF(A179="","",VALUE(RIGHT(LEFT(B179,M179-1),LEN(LEFT(B179,M179-1))-L179))) | F179: =IF(A179="","","v " &ROUND(C179*Data!$C$35,0) & ".0 " & ROUND(D179*Data!$C$35,0) & ".0 " & ROUND(E179*Data!$C$35,0) & ".0") | G179: =LEN(B179) -> 0 | H179: =SEARCH(" ",B179) -> #VALUE! | I179: =SEARCH(".",B179) -> #VALUE! | J179: =SEARCH(" ",B179,H179+1) -> #VALUE! | K179: =SEARCH(".",B179,I179+1) -> #VALUE! | L179: =SEARCH(" ",B179,J179+1) -> #VALUE! | M179: =SEARCH(".",B179,K179+1) -> #VALUE!
B180: =TRIM(A180) | C180: =IF(A180="","",VALUE(RIGHT(LEFT(B180,I180-1),LEN(LEFT(B180,I180-1))-H180))) | D180: =IF(A180="","",VALUE(RIGHT(LEFT(B180,K180-1),LEN(LEFT(B180,K180-1))-J180))) | E180: =IF(A180="","",VALUE(RIGHT(LEFT(B180,M180-1),LEN(LEFT(B180,M180-1))-L180))) | F180: =IF(A180="","","v " &ROUND(C180*Data!$C$35,0) & ".0 " & ROUND(D180*Data!$C$35,0) & ".0 " & ROUND(E180*Data!$C$35,0) & ".0") | G180: =LEN(B180) -> 0 | H180: =SEARCH(" ",B180) -> #VALUE! | I180: =SEARCH(".",B180) -> #VALUE! | J180: =SEARCH(" ",B180,H180+1) -> #VALUE! | K180: =SEARCH(".",B180,I180+1) -> #VALUE! | L180: =SEARCH(" ",B180,J180+1) -> #VALUE! | M180: =SEARCH(".",B180,K180+1) -> #VALUE!
B181: =TRIM(A181) | C181: =IF(A181="","",VALUE(RIGHT(LEFT(B181,I181-1),LEN(LEFT(B181,I181-1))-H181))) | D181: =IF(A181="","",VALUE(RIGHT(LEFT(B181,K181-1),LEN(LEFT(B181,K181-1))-J181))) | E181: =IF(A181="","",VALUE(RIGHT(LEFT(B181,M181-1),LEN(LEFT(B181,M181-1))-L181))) | F181: =IF(A181="","","v " &ROUND(C181*Data!$C$35,0) & ".0 " & ROUND(D181*Data!$C$35,0) & ".0 " & ROUND(E181*Data!$C$35,0) & ".0") | G181: =LEN(B181) -> 0 | H181: =SEARCH(" ",B181) -> #VALUE! | I181: =SEARCH(".",B181) -> #VALUE! | J181: =SEARCH(" ",B181,H181+1) -> #VALUE! | K181: =SEARCH(".",B181,I181+1) -> #VALUE! | L181: =SEARCH(" ",B181,J181+1) -> #VALUE! | M181: =SEARCH(".",B181,K181+1) -> #VALUE!
B182: =TRIM(A182) | C182: =IF(A182="","",VALUE(RIGHT(LEFT(B182,I182-1),LEN(LEFT(B182,I182-1))-H182))) | D182: =IF(A182="","",VALUE(RIGHT(LEFT(B182,K182-1),LEN(LEFT(B182,K182-1))-J182))) | E182: =IF(A182="","",VALUE(RIGHT(LEFT(B182,M182-1),LEN(LEFT(B182,M182-1))-L182))) | F182: =IF(A182="","","v " &ROUND(C182*Data!$C$35,0) & ".0 " & ROUND(D182*Data!$C$35,0) & ".0 " & ROUND(E182*Data!$C$35,0) & ".0") | G182: =LEN(B182) -> 0 | H182: =SEARCH(" ",B182) -> #VALUE! | I182: =SEARCH(".",B182) -> #VALUE! | J182: =SEARCH(" ",B182,H182+1) -> #VALUE! | K182: =SEARCH(".",B182,I182+1) -> #VALUE! | L182: =SEARCH(" ",B182,J182+1) -> #VALUE! | M182: =SEARCH(".",B182,K182+1) -> #VALUE!
B183: =TRIM(A183) | C183: =IF(A183="","",VALUE(RIGHT(LEFT(B183,I183-1),LEN(LEFT(B183,I183-1))-H183))) | D183: =IF(A183="","",VALUE(RIGHT(LEFT(B183,K183-1),LEN(LEFT(B183,K183-1))-J183))) | E183: =IF(A183="","",VALUE(RIGHT(LEFT(B183,M183-1),LEN(LEFT(B183,M183-1))-L183))) | F183: =IF(A183="","","v " &ROUND(C183*Data!$C$35,0) & ".0 " & ROUND(D183*Data!$C$35,0) & ".0 " & ROUND(E183*Data!$C$35,0) & ".0") | G183: =LEN(B183) -> 0 | H183: =SEARCH(" ",B183) -> #VALUE! | I183: =SEARCH(".",B183) -> #VALUE! | J183: =SEARCH(" ",B183,H183+1) -> #VALUE! | K183: =SEARCH(".",B183,I183+1) -> #VALUE! | L183: =SEARCH(" ",B183,J183+1) -> #VALUE! | M183: =SEARCH(".",B183,K183+1) -> #VALUE!
B184: =TRIM(A184) | C184: =IF(A184="","",VALUE(RIGHT(LEFT(B184,I184-1),LEN(LEFT(B184,I184-1))-H184))) | D184: =IF(A184="","",VALUE(RIGHT(LEFT(B184,K184-1),LEN(LEFT(B184,K184-1))-J184))) | E184: =IF(A184="","",VALUE(RIGHT(LEFT(B184,M184-1),LEN(LEFT(B184,M184-1))-L184))) | F184: =IF(A184="","","v " &ROUND(C184*Data!$C$35,0) & ".0 " & ROUND(D184*Data!$C$35,0) & ".0 " & ROUND(E184*Data!$C$35,0) & ".0") | G184: =LEN(B184) -> 0 | H184: =SEARCH(" ",B184) -> #VALUE! | I184: =SEARCH(".",B184) -> #VALUE! | J184: =SEARCH(" ",B184,H184+1) -> #VALUE! | K184: =SEARCH(".",B184,I184+1) -> #VALUE! | L184: =SEARCH(" ",B184,J184+1) -> #VALUE! | M184: =SEARCH(".",B184,K184+1) -> #VALUE!
B185: =TRIM(A185) | C185: =IF(A185="","",VALUE(RIGHT(LEFT(B185,I185-1),LEN(LEFT(B185,I185-1))-H185))) | D185: =IF(A185="","",VALUE(RIGHT(LEFT(B185,K185-1),LEN(LEFT(B185,K185-1))-J185))) | E185: =IF(A185="","",VALUE(RIGHT(LEFT(B185,M185-1),LEN(LEFT(B185,M185-1))-L185))) | F185: =IF(A185="","","v " &ROUND(C185*Data!$C$35,0) & ".0 " & ROUND(D185*Data!$C$35,0) & ".0 " & ROUND(E185*Data!$C$35,0) & ".0") | G185: =LEN(B185) -> 0 | H185: =SEARCH(" ",B185) -> #VALUE! | I185: =SEARCH(".",B185) -> #VALUE! | J185: =SEARCH(" ",B185,H185+1) -> #VALUE! | K185: =SEARCH(".",B185,I185+1) -> #VALUE! | L185: =SEARCH(" ",B185,J185+1) -> #VALUE! | M185: =SEARCH(".",B185,K185+1) -> #VALUE!
B186: =TRIM(A186) | C186: =IF(A186="","",VALUE(RIGHT(LEFT(B186,I186-1),LEN(LEFT(B186,I186-1))-H186))) | D186: =IF(A186="","",VALUE(RIGHT(LEFT(B186,K186-1),LEN(LEFT(B186,K186-1))-J186))) | E186: =IF(A186="","",VALUE(RIGHT(LEFT(B186,M186-1),LEN(LEFT(B186,M186-1))-L186))) | F186: =IF(A186="","","v " &ROUND(C186*Data!$C$35,0) & ".0 " & ROUND(D186*Data!$C$35,0) & ".0 " & ROUND(E186*Data!$C$35,0) & ".0") | G186: =LEN(B186) -> 0 | H186: =SEARCH(" ",B186) -> #VALUE! | I186: =SEARCH(".",B186) -> #VALUE! | J186: =SEARCH(" ",B186,H186+1) -> #VALUE! | K186: =SEARCH(".",B186,I186+1) -> #VALUE! | L186: =SEARCH(" ",B186,J186+1) -> #VALUE! | M186: =SEARCH(".",B186,K186+1) -> #VALUE!
B187: =TRIM(A187) | C187: =IF(A187="","",VALUE(RIGHT(LEFT(B187,I187-1),LEN(LEFT(B187,I187-1))-H187))) | D187: =IF(A187="","",VALUE(RIGHT(LEFT(B187,K187-1),LEN(LEFT(B187,K187-1))-J187))) | E187: =IF(A187="","",VALUE(RIGHT(LEFT(B187,M187-1),LEN(LEFT(B187,M187-1))-L187))) | F187: =IF(A187="","","v " &ROUND(C187*Data!$C$35,0) & ".0 " & ROUND(D187*Data!$C$35,0) & ".0 " & ROUND(E187*Data!$C$35,0) & ".0") | G187: =LEN(B187) -> 0 | H187: =SEARCH(" ",B187) -> #VALUE! | I187: =SEARCH(".",B187) -> #VALUE! | J187: =SEARCH(" ",B187,H187+1) -> #VALUE! | K187: =SEARCH(".",B187,I187+1) -> #VALUE! | L187: =SEARCH(" ",B187,J187+1) -> #VALUE! | M187: =SEARCH(".",B187,K187+1) -> #VALUE!
... B256: =TRIM(A256) | C256: =IF(A256="","",VALUE(RIGHT(LEFT(B256,I256-1),LEN(LEFT(B256,I256-1))-H256))) | D256: =IF(A256="","",VALUE(RIGHT(LEFT(B256,K256-1),LEN(LEFT(B256,K256-1))-J256))) | E256: =IF(A256="","",VALUE(RIGHT(LEFT(B256,M256-1),LEN(LEFT(B256,M256-1))-L256))) | F256: =IF(A256="","","v " &ROUND(C256*Data!$C$35,0) & ".0 " & ROUND(D256*Data!$C$35,0) & ".0 " & ROUND(E256*Data!$C$35,0) & ".0") | G256: =LEN(B256) -> 0 | H256: =SEARCH(" ",B256) -> #VALUE! | I256: =SEARCH(".",B256) -> #VALUE! | J256: =SEARCH(" ",B256,H256+1) -> #VALUE! | K256: =SEARCH(".",B256,I256+1) -> #VALUE! | L256: =SEARCH(" ",B256,J256+1) -> #VALUE! | M256: =SEARCH(".",B256,K256+1) -> #VALUE!

Sheet CAR1
A1: X | B1: Y | C1: Z | D1: New OBJ
A2: =IFERROR(ROUND(CAR0!C2*Data!$D$36,0),"") -> -13 | B2: =IFERROR(ROUND(CAR0!D2*Data!$D$36,0),"") -> 7 | C2: =IFERROR(ROUND(CAR0!E2*Data!$D$36,0),"") -> 26 | D2: =IFERROR(IF(CAR0!A2="","","v " &ROUND(A2*Data!$C$35,0) & ".0 " & ROUND(B2*Data!$C$35,0) & ".0 " & ROUND(C2*Data!$C$35,0) & ".0"),"") -> v -44.0 23.0 87.0
A3: =IFERROR(ROUND(CAR0!C3*Data!$D$36,0),"") -> -13 | B3: =IFERROR(ROUND(CAR0!D3*Data!$D$36,0),"") -> 0 | C3: =IFERROR(ROUND(CAR0!E3*Data!$D$36,0),"") -> 26 | D3: =IFERROR(IF(CAR0!A3="","","v " &ROUND(A3*Data!$C$35,0) & ".0 " & ROUND(B3*Data!$C$35,0) & ".0 " & ROUND(C3*Data!$C$35,0) & ".0"),"") -> v -44.0 0.0 87.0
A4: =IFERROR(ROUND(CAR0!C4*Data!$D$36,0),"") -> -13 | B4: =IFERROR(ROUND(CAR0!D4*Data!$D$36,0),"") -> 7 | C4: =IFERROR(ROUND(CAR0!E4*Data!$D$36,0),"") -> 22 | D4: =IFERROR(IF(CAR0!A4="","","v " &ROUND(A4*Data!$C$35,0) & ".0 " & ROUND(B4*Data!$C$35,0) & ".0 " & ROUND(C4*Data!$C$35,0) & ".0"),"") -> v -44.0 23.0 74.0
A5: =IFERROR(ROUND(CAR0!C5*Data!$D$36,0),"") -> -19 | B5: =IFERROR(ROUND(CAR0!D5*Data!$D$36,0),"") -> 7 | C5: =IFERROR(ROUND(CAR0!E5*Data!$D$36,0),"") -> 26 | D5: =IFERROR(IF(CAR0!A5="","","v " &ROUND(A5*Data!$C$35,0) & ".0 " & ROUND(B5*Data!$C$35,0) & ".0 " & ROUND(C5*Data!$C$35,0) & ".0"),"") -> v -64.0 23.0 87.0
A6: =IFERROR(ROUND(CAR0!C6*Data!$D$36,0),"") -> -19 | B6: =IFERROR(ROUND(CAR0!D6*Data!$D$36,0),"") -> 0 | C6: =IFERROR(ROUND(CAR0!E6*Data!$D$36,0),"") -> 26 | D6: =IFERROR(IF(CAR0!A6="","","v " &ROUND(A6*Data!$C$35,0) & ".0 " & ROUND(B6*Data!$C$35,0) & ".0 " & ROUND(C6*Data!$C$35,0) & ".0"),"") -> v -64.0 0.0 87.0
A7: =IFERROR(ROUND(CAR0!C7*Data!$D$36,0),"") -> -19 | B7: =IFERROR(ROUND(CAR0!D7*Data!$D$36,0),"") -> 7 | C7: =IFERROR(ROUND(CAR0!E7*Data!$D$36,0),"") -> 22 | D7: =IFERROR(IF(CAR0!A7="","","v " &ROUND(A7*Data!$C$35,0) & ".0 " & ROUND(B7*Data!$C$35,0) & ".0 " & ROUND(C7*Data!$C$35,0) & ".0"),"") -> v -64.0 23.0 74.0
A8: =IFERROR(ROUND(CAR0!C8*Data!$D$36,0),"") -> 13 | B8: =IFERROR(ROUND(CAR0!D8*Data!$D$36,0),"") -> 7 | C8: =IFERROR(ROUND(CAR0!E8*Data!$D$36,0),"") -> 26 | D8: =IFERROR(IF(CAR0!A8="","","v " &ROUND(A8*Data!$C$35,0) & ".0 " & ROUND(B8*Data!$C$35,0) & ".0 " & ROUND(C8*Data!$C$35,0) & ".0"),"") -> v 44.0 23.0 87.0
A9: =IFERROR(ROUND(CAR0!C9*Data!$D$36,0),"") -> 13 | B9: =IFERROR(ROUND(CAR0!D9*Data!$D$36,0),"") -> 0 | C9: =IFERROR(ROUND(CAR0!E9*Data!$D$36,0),"") -> 26 | D9: =IFERROR(IF(CAR0!A9="","","v " &ROUND(A9*Data!$C$35,0) & ".0 " & ROUND(B9*Data!$C$35,0) & ".0 " & ROUND(C9*Data!$C$35,0) & ".0"),"") -> v 44.0 0.0 87.0
A10: =IFERROR(ROUND(CAR0!C10*Data!$D$36,0),"") -> 13 | B10: =IFERROR(ROUND(CAR0!D10*Data!$D$36,0),"") -> 7 | C10: =IFERROR(ROUND(CAR0!E10*Data!$D$36,0),"") -> 22 | D10: =IFERROR(IF(CAR0!A10="","","v " &ROUND(A10*Data!$C$35,0) & ".0 " & ROUND(B10*Data!$C$35,0) & ".0 " & ROUND(C10*Data!$C$35,0) & ".0"),"") -> v 44.0 23.0 74.0
A11: =IFERROR(ROUND(CAR0!C11*Data!$D$36,0),"") -> 19 | B11: =IFERROR(ROUND(CAR0!D11*Data!$D$36,0),"") -> 7 | C11: =IFERROR(ROUND(CAR0!E11*Data!$D$36,0),"") -> 26 | D11: =IFERROR(IF(CAR0!A11="","","v " &ROUND(A11*Data!$C$35,0) & ".0 " & ROUND(B11*Data!$C$35,0) & ".0 " & ROUND(C11*Data!$C$35,0) & ".0"),"") -> v 64.0 23.0 87.0
A12: =IFERROR(ROUND(CAR0!C12*Data!$D$36,0),"") -> 19 | B12: =IFERROR(ROUND(CAR0!D12*Data!$D$36,0),"") -> 0 | C12: =IFERROR(ROUND(CAR0!E12*Data!$D$36,0),"") -> 26 | D12: =IFERROR(IF(CAR0!A12="","","v " &ROUND(A12*Data!$C$35,0) & ".0 " & ROUND(B12*Data!$C$35,0) & ".0 " & ROUND(C12*Data!$C$35,0) & ".0"),"") -> v 64.0 0.0 87.0
A13: =IFERROR(ROUND(CAR0!C13*Data!$D$36,0),"") -> 19 | B13: =IFERROR(ROUND(CAR0!D13*Data!$D$36,0),"") -> 7 | C13: =IFERROR(ROUND(CAR0!E13*Data!$D$36,0),"") -> 22 | D13: =IFERROR(IF(CAR0!A13="","","v " &ROUND(A13*Data!$C$35,0) & ".0 " & ROUND(B13*Data!$C$35,0) & ".0 " & ROUND(C13*Data!$C$35,0) & ".0"),"") -> v 64.0 23.0 74.0
... A167: =IFERROR(ROUND(CAR0!C167*Data!$D$36,0),"") -> 2 | B167: =IFERROR(ROUND(CAR0!D167*Data!$D$36,0),"") -> 8 | C167: =IFERROR(ROUND(CAR0!E167*Data!$D$36,0),"") -> 31 | D167: =IFERROR(IF(CAR0!A167="","","v " &ROUND(A167*Data!$C$35,0) & ".0 " & ROUND(B167*Data!$C$35,0) & ".0 " & ROUND(C167*Data!$C$35,0) & ".0"),"") -> v 7.0 27.0 104.0
A168: =IFERROR(ROUND(CAR0!C168*Data!$D$36,0),"") -> -2 | B168: =IFERROR(ROUND(CAR0!D168*Data!$D$36,0),"") -> 8 | C168: =IFERROR(ROUND(CAR0!E168*Data!$D$36,0),"") -> 31 | D168: =IFERROR(IF(CAR0!A168="","","v " &ROUND(A168*Data!$C$35,0) & ".0 " & ROUND(B168*Data!$C$35,0) & ".0 " & ROUND(C168*Data!$C$35,0) & ".0"),"") -> v -7.0 27.0 104.0 | E168: =IFERROR(IF(CAR0!A168="","","v " &ROUND(A168*Data!$C$35,0) & ".0 " & ROUND(B168*Data!$C$35,0) & ".0 " & ROUND(C168*Data!$C$35,0) & ".0"),"") -> v -7.0 27.0 104.0
A169: =IFERROR(ROUND(CAR0!C169*Data!$D$36,0),"") -> -2 | B169: =IFERROR(ROUND(CAR0!D169*Data!$D$36,0),"") -> 8 | C169: =IFERROR(ROUND(CAR0!E169*Data!$D$36,0),"") -> 32 | D169: =IFERROR(IF(CAR0!A169="","","v " &ROUND(A169*Data!$C$35,0) & ".0 " & ROUND(B169*Data!$C$35,0) & ".0 " & ROUND(C169*Data!$C$35,0) & ".0"),"") -> v -7.0 27.0 107.0
A170: =IFERROR(ROUND(CAR0!C170*Data!$D$36,0),"") -> 0 | B170: =IFERROR(ROUND(CAR0!D170*Data!$D$36,0),"") -> 8 | C170: =IFERROR(ROUND(CAR0!E170*Data!$D$36,0),"") -> 32 | D170: =IFERROR(IF(CAR0!A170="","","v " &ROUND(A170*Data!$C$35,0) & ".0 " & ROUND(B170*Data!$C$35,0) & ".0 " & ROUND(C170*Data!$C$35,0) & ".0"),"") -> v 0.0 27.0 107.0
A171: =IFERROR(ROUND(CAR0!C171*Data!$D$36,0),"") -> 0 | B171: =IFERROR(ROUND(CAR0!D171*Data!$D$36,0),"") -> 10 | C171: =IFERROR(ROUND(CAR0!E171*Data!$D$36,0),"") -> 27 | D171: =IFERROR(IF(CAR0!A171="","","v " &ROUND(A171*Data!$C$35,0) & ".0 " & ROUND(B171*Data!$C$35,0) & ".0 " & ROUND(C171*Data!$C$35,0) & ".0"),"") -> v 0.0 34.0 90.0
A172: =IFERROR(ROUND(CAR0!C172*Data!$D$36,0),"") -> 0 | B172: =IFERROR(ROUND(CAR0!D172*Data!$D$36,0),"") -> 10 | C172: =IFERROR(ROUND(CAR0!E172*Data!$D$36,0),"") -> 27 | D172: =IFERROR(IF(CAR0!A172="","","v " &ROUND(A172*Data!$C$35,0) & ".0 " & ROUND(B172*Data!$C$35,0) & ".0 " & ROUND(C172*Data!$C$35,0) & ".0"),"") -> v 0.0 34.0 90.0
A173: =IFERROR(ROUND(CAR0!C173*Data!$D$36,0),"") -> 0 | B173: =IFERROR(ROUND(CAR0!D173*Data!$D$36,0),"") -> 8 | C173: =IFERROR(ROUND(CAR0!E173*Data!$D$36,0),"") -> 32 | D173: =IFERROR(IF(CAR0!A173="","","v " &ROUND(A173*Data!$C$35,0) & ".0 " & ROUND(B173*Data!$C$35,0) & ".0 " & ROUND(C173*Data!$C$35,0) & ".0"),"") -> v 0.0 27.0 107.0
A174: =IFERROR(ROUND(CAR0!C174*Data!$D$36,0),"") -> 1 | B174: =IFERROR(ROUND(CAR0!D174*Data!$D$36,0),"") -> 10 | C174: =IFERROR(ROUND(CAR0!E174*Data!$D$36,0),"") -> 28 | D174: =IFERROR(IF(CAR0!A174="","","v " &ROUND(A174*Data!$C$35,0) & ".0 " & ROUND(B174*Data!$C$35,0) & ".0 " & ROUND(C174*Data!$C$35,0) & ".0"),"") -> v 3.0 34.0 94.0
A175: =IFERROR(ROUND(CAR0!C175*Data!$D$36,0),"") -> 0 | B175: =IFERROR(ROUND(CAR0!D175*Data!$D$36,0),"") -> 10 | C175: =IFERROR(ROUND(CAR0!E175*Data!$D$36,0),"") -> 28 | D175: =IFERROR(IF(CAR0!A175="","","v " &ROUND(A175*Data!$C$35,0) & ".0 " & ROUND(B175*Data!$C$35,0) & ".0 " & ROUND(C175*Data!$C$35,0) & ".0"),"") -> v 0.0 34.0 94.0
A176: =IFERROR(ROUND(CAR0!C176*Data!$D$36,0),"") | B176: =IFERROR(ROUND(CAR0!D176*Data!$D$36,0),"") | C176: =IFERROR(ROUND(CAR0!E176*Data!$D$36,0),"") | D176: =IFERROR(IF(CAR0!A176="","","v " &ROUND(A176*Data!$C$35,0) & ".0 " & ROUND(B176*Data!$C$35,0) & ".0 " & ROUND(C176*Data!$C$35,0) & ".0"),"")
A177: =IFERROR(ROUND(CAR0!C177*Data!$D$36,0),"") | B177: =IFERROR(ROUND(CAR0!D177*Data!$D$36,0),"") | C177: =IFERROR(ROUND(CAR0!E177*Data!$D$36,0),"") | D177: =IFERROR(IF(CAR0!A177="","","v " &ROUND(A177*Data!$C$35,0) & ".0 " & ROUND(B177*Data!$C$35,0) & ".0 " & ROUND(C177*Data!$C$35,0) & ".0"),"")
A178: =IFERROR(ROUND(CAR0!C178*Data!$D$36,0),"") | B178: =IFERROR(ROUND(CAR0!D178*Data!$D$36,0),"") | C178: =IFERROR(ROUND(CAR0!E178*Data!$D$36,0),"") | D178: =IFERROR(IF(CAR0!A178="","","v " &ROUND(A178*Data!$C$35,0) & ".0 " & ROUND(B178*Data!$C$35,0) & ".0 " & ROUND(C178*Data!$C$35,0) & ".0"),"")
A179: =IFERROR(ROUND(CAR0!C179*Data!$D$36,0),"") | B179: =IFERROR(ROUND(CAR0!D179*Data!$D$36,0),"") | C179: =IFERROR(ROUND(CAR0!E179*Data!$D$36,0),"") | D179: =IFERROR(IF(CAR0!A179="","","v " &ROUND(A179*Data!$C$35,0) & ".0 " & ROUND(B179*Data!$C$35,0) & ".0 " & ROUND(C179*Data!$C$35,0) & ".0"),"")
A180: =IFERROR(ROUND(CAR0!C180*Data!$D$36,0),"") | B180: =IFERROR(ROUND(CAR0!D180*Data!$D$36,0),"") | C180: =IFERROR(ROUND(CAR0!E180*Data!$D$36,0),"") | D180: =IFERROR(IF(CAR0!A180="","","v " &ROUND(A180*Data!$C$35,0) & ".0 " & ROUND(B180*Data!$C$35,0) & ".0 " & ROUND(C180*Data!$C$35,0) & ".0"),"")
... A256: =IFERROR(ROUND(CAR0!C256*Data!$D$36,0),"") | B256: =IFERROR(ROUND(CAR0!D256*Data!$D$36,0),"") | C256: =IFERROR(ROUND(CAR0!E256*Data!$D$36,0),"") | D256: =IFERROR(IF(CAR0!A256="","","v " &ROUND(A256*Data!$C$35,0) & ".0 " & ROUND(B256*Data!$C$35,0) & ".0 " & ROUND(C256*Data!$C$35,0) & ".0"),"")

Sheet AX+B
A1: X1 | B1: Y1 | C1: Z1 | D1: X2 | E1: Y2 | F1: Z2
A2: 620 | B2: 101 | C2: 221 | D2: 67 | E2: 23 | F2: 355
A4: ay | B4: =(E2-B2)/(D2-A2) -> 0.14104882 | C4: az | D4: =(F2-C2)/(D2-A2) -> -0.24231465
A5: ay | B5: =B2-A2*B4 -> 13.549729 | C5: bz | D5: =F2-D2*D4 -> 371.23508
A7: Xn | B7: Yn | C7: Zn
A8: 503 | B8: =ROUND(B4*A8+B5,) -> 84 | C8: =ROUND(D4*A8+D5,) -> 249

Sheet G grip
A1: Car | B1: Lateral G | C1: Game | D1: dec | E1: Formula | F1: CA/CBh
A2: THEMA | B2: 0.8 | E2: =247*B2-10 -> 187.6 | F2: =IF(E2<=255,RIGHT(DEC2HEX(E2),2),RIGHT(DEC2HEX(E2),2)&"/"&LEFT(DEC2HEX(E2),2)) -> BB
A3: CX | B3: 0.9 | E3: =247*B3-10 -> 212.3 | F3: =IF(E3<=255,RIGHT(DEC2HEX(E3),2),RIGHT(DEC2HEX(E3),2)&"/"&LEFT(DEC2HEX(E3),2)) -> D4
A4: 911C4 | B4: 0.83 | C4: D3 | D4: =HEX2DEC(C4) -> 211 | E4: =247*B4-10 -> 195.01 | F4: =IF(E4<=255,RIGHT(DEC2HEX(E4),2),RIGHT(DEC2HEX(E4),2)&"/"&LEFT(DEC2HEX(E4),2)) -> C3
A5: 328 | B5: 0.9 | E5: =247*B5-10 -> 212.3 | F5: =IF(E5<=255,RIGHT(DEC2HEX(E5),2),RIGHT(DEC2HEX(E5),2)&"/"&LEFT(DEC2HEX(E5),2)) -> D4
A6: 308 | B6: 0.9 | E6: =247*B6-10 -> 212.3 | F6: =IF(E6<=255,RIGHT(DEC2HEX(E6),2),RIGHT(DEC2HEX(E6),2)&"/"&LEFT(DEC2HEX(E6),2)) -> D4
A7: Delta | B7: 0.86 | C7: D3 | D7: =HEX2DEC(C7) -> 211 | E7: =247*B7-10 -> 202.42 | F7: =IF(E7<=255,RIGHT(DEC2HEX(E7),2),RIGHT(DEC2HEX(E7),2)&"/"&LEFT(DEC2HEX(E7),2)) -> CA
A8: NSX | B8: 0.89 | C8: D3 | D8: =HEX2DEC(C8) -> 211 | E8: =247*B8-10 -> 209.83 | F8: =IF(E8<=255,RIGHT(DEC2HEX(E8),2),RIGHT(DEC2HEX(E8),2)&"/"&LEFT(DEC2HEX(E8),2)) -> D1
A9: Quattro | B9: 0.9 | C9: D3 | D9: =HEX2DEC(C9) -> 211 | E9: =247*B9-10 -> 212.3 | F9: =IF(E9<=255,RIGHT(DEC2HEX(E9),2),RIGHT(DEC2HEX(E9),2)&"/"&LEFT(DEC2HEX(E9),2)) -> D4
A10: MYTHOS | B10: 0.9 | E10: =247*B10-10 -> 212.3 | F10: =IF(E10<=255,RIGHT(DEC2HEX(E10),2),RIGHT(DEC2HEX(E10),2)&"/"&LEFT(DEC2HEX(E10),2)) -> D4
A11: 408 | B11: 0.9 | E11: =247*B11-10 -> 212.3 | F11: =IF(E11<=255,RIGHT(DEC2HEX(E11),2),RIGHT(DEC2HEX(E11),2)&"/"&LEFT(DEC2HEX(E11),2)) -> D4
A12: Corvette ZR1 | B12: 0.92 | C12: D3 | D12: =HEX2DEC(C12) -> 211 | E12: =247*B12-10 -> 217.24 | F12: =IF(E12<=255,RIGHT(DEC2HEX(E12),2),RIGHT(DEC2HEX(E12),2)&"/"&LEFT(DEC2HEX(E12),2)) -> D9
A13: 512TR | B13: 0.93 | E13: =247*B13-10 -> 219.71 | F13: =IF(E13<=255,RIGHT(DEC2HEX(E13),2),RIGHT(DEC2HEX(E13),2)&"/"&LEFT(DEC2HEX(E13),2)) -> DB
A14: Countach | B14: 0.94 | C14: D2 | D14: =HEX2DEC(C14) -> 210 | E14: =247*B14-10 -> 222.18 | F14: =IF(E14<=255,RIGHT(DEC2HEX(E14),2),RIGHT(DEC2HEX(E14),2)&"/"&LEFT(DEC2HEX(E14),2)) -> DE
A15: F512M | B15: 0.95 | E15: =247*B15-10 -> 224.65 | F15: =IF(E15<=255,RIGHT(DEC2HEX(E15),2),RIGHT(DEC2HEX(E15),2)&"/"&LEFT(DEC2HEX(E15),2)) -> E0
A16: Diablo | B16: 0.95 | E16: =247*B16-10 -> 224.65 | F16: =IF(E16<=255,RIGHT(DEC2HEX(E16),2),RIGHT(DEC2HEX(E16),2)&"/"&LEFT(DEC2HEX(E16),2)) -> E0
A17: GTO | B17: 0.95 | C17: D3 | D17: =HEX2DEC(C17) -> 211 | E17: =247*B17-10 -> 224.65 | F17: =IF(E17<=255,RIGHT(DEC2HEX(E17),2),RIGHT(DEC2HEX(E17),2)&"/"&LEFT(DEC2HEX(E17),2)) -> E0
A18: F40 | B18: 1.05 | E18: =247*B18-10 -> 249.35 | F18: =IF(E18<=255,RIGHT(DEC2HEX(E18),2),RIGHT(DEC2HEX(E18),2)&"/"&LEFT(DEC2HEX(E18),2)) -> F9
A19: EVO | B19: 1.7 | E19: =247*B19-10 -> 409.9 | F19: =IF(E19<=255,RIGHT(DEC2HEX(E19),2),RIGHT(DEC2HEX(E19),2)&"/"&LEFT(DEC2HEX(E19),2)) -> 99/19
A20: 962 | B20: 2 | C20: 01F4 | D20: =HEX2DEC(C20) -> 500 | E20: =247*B20-10 -> 484 | F20: =IF(E20<=255,RIGHT(DEC2HEX(E20),2),RIGHT(DEC2HEX(E20),2)&"/"&LEFT(DEC2HEX(E20),2)) -> E4/1E
A21: XJR9 | B21: 2 | C21: 01E0 | D21: =HEX2DEC(C21) -> 480 | E21: =247*B21-10 -> 484 | F21: =IF(E21<=255,RIGHT(DEC2HEX(E21),2),RIGHT(DEC2HEX(E21),2)&"/"&LEFT(DEC2HEX(E21),2)) -> E4/1E
A22: MARCH | B22: 2.5 | C22: 258 | D22: =HEX2DEC(C22) -> 600 | E22: =247*B22-10 -> 607.5 | F22: =IF(E22<=255,RIGHT(DEC2HEX(E22),2),RIGHT(DEC2HEX(E22),2)&"/"&LEFT(DEC2HEX(E22),2)) -> 5F/25
A23: LM002 | C23: D3 | D23: =HEX2DEC(C23) -> 211 | F23: =IF(E23<=255,RIGHT(DEC2HEX(E23),2),RIGHT(DEC2HEX(E23),2)&"/"&LEFT(DEC2HEX(E23),2)) -> 0

Sheet Torque
A1: Car | B1: Real Torque | C1: Real Torque | D1: Game max | E1: dec | F1: coeff
A2: NSX | B2: 29 | C2: =B2*9.81 -> 284.49 | D2: 2E | E2: =HEX2DEC(D2) -> 46 | F2: =C2/E2 -> 6.1845652
A3: LM002 | B3: 51 | C3: =B3*9.81 -> 500.31 | D3: 4E | E3: =HEX2DEC(D3) -> 78 | F3: =C3/E3 -> 6.4142308
A4: Corvette ZR1 | B4: 50 | C4: =B4*9.81 -> 490.5 | D4: 48 | E4: =HEX2DEC(D4) -> 72 | F4: =C4/E4 -> 6.8125
A5: 911C4 | B5: 33 | C5: =B5*9.81 -> 323.73 | D5: 2E | E5: =HEX2DEC(D5) -> 46 | F5: =C5/E5 -> 7.0376087
A6: Quattro | B6: 29 | C6: =B6*9.81 -> 284.49 | D6: 26 | E6: =HEX2DEC(D6) -> 38 | F6: =C6/E6 -> 7.4865789
A7: Countach | B7: 51 | C7: =B7*9.81 -> 500.31 | D7: 41 | E7: =HEX2DEC(D7) -> 65 | F7: =C7/E7 -> 7.6970769
A8: Delta | B8: 31 | C8: =B8*9.81 -> 304.11 | D8: 26 | E8: =HEX2DEC(D8) -> 38 | F8: =C8/E8 -> 8.0028947
A9: GTO | B9: 50 | C9: =B9*9.81 -> 490.5 | D9: 3C | E9: =HEX2DEC(D9) -> 60 | F9: =C9/E9 -> 8.175
A10: MARCH | B10: =C10/9.81 -> 47.400612 | C10: 465 | D10: 2F | E10: =HEX2DEC(D10) -> 47 | F10: =C10/E10 -> 9.893617
A11: XJR9 | B11: =C11/9.81 -> 72.273191 | C11: 709 | D11: 37 | E11: =HEX2DEC(D11) -> 55 | F11: =C11/E11 -> 12.890909
A12: 962 | B12: =C12/9.81 -> 72.884811 | C12: 715 | D12: 37 | E12: =HEX2DEC(D12) -> 55 | F12: =C12/E12 -> 13
F13: =AVERAGE(F2:F12) -> 8.5086347
